BEGIN:VCALENDAR
PRODID:NingEventWidget-v1
VERSION:2.0
METHOD:PUBLISH
BEGIN:VTIMEZONE
TZID:Europe/London
X-LIC-LOCATION:Europe/London
BEGIN:DAYLIGHT
TZOFFSETFROM:+0000
TZOFFSETTO:+0100
TZNAME:BST
DTSTART:19700329T010000
RRULE:FREQ=YEARLY;BYMONTH=3;BYDAY=-1SU
END:DAYLIGHT
BEGIN:STANDARD
TZOFFSETFROM:+0100
TZOFFSETTO:+0000
TZNAME:GMT
DTSTART:19701025T020000
RRULE:FREQ=YEARLY;BYMONTH=10;BYDAY=-1SU
END:STANDARD
END:VTIMEZONE
BEGIN:VEVENT
UID:6278630:Event:71827
DTSTAMP:20260422T064026Z
SUMMARY:Big Garden Birdwatch Event in Alexandra Park
DESCRIPTION:The Big Garden Birdwatch is on January 25 and 26, 2014, 
 when people all over the country will be counting the birds in their g
 ardens or local parks.Join the Friends of Alexandra Park and the NW
  London RSPB Group at the Boating Lake from 11am to 2 pm on Sund
 ay 26th January, 2014.  They will help you identify some of the birds
  there, and you can pick up information to help you spot the birds in 
 your garden.\n\nFor more information visit https://bowesandbounds.org/
 events/big-garden-birdwatch-event-in-alexandra-park
DTSTART;TZID=Europe/London:20140126T110000
DTEND;TZID=Europe/London:20140126T140000
CATEGORIES:birds, children, kids, family, "friends of parks"
LOCATION:Alexandra Park
WEBSITE:http://www.friendsofalexandrapark.org/
URL:http://www.friendsofalexandrapark.org/
CONTACT:
ORGANIZER;CN="Stephen Middleton":https://bowesandbounds.org/profile/St
 ephenMiddleton
ATTACH;FMTTYPE="image/jpeg":http://storage.ning.com/topology/rest/1.0/
 file/get/2287260268?profile=original
ATTENDEE;ROLE=REQ-PARTICIPANT;PARTSTAT=ACCEPTED;RSVP=TRUE;CN="Stephen 
 Middleton":https://bowesandbounds.org/profile/StephenMiddleton
END:VEVENT
END:VCALENDAR
