BEGIN:VCALENDAR
PRODID:NingEventWidget-v1
VERSION:2.0
METHOD:PUBLISH
BEGIN:VTIMEZONE
TZID:Europe/London
X-LIC-LOCATION:Europe/London
BEGIN:DAYLIGHT
TZOFFSETFROM:+0000
TZOFFSETTO:+0100
TZNAME:BST
DTSTART:19700329T010000
RRULE:FREQ=YEARLY;BYMONTH=3;BYDAY=-1SU
END:DAYLIGHT
BEGIN:STANDARD
TZOFFSETFROM:+0100
TZOFFSETTO:+0000
TZNAME:GMT
DTSTART:19701025T020000
RRULE:FREQ=YEARLY;BYMONTH=10;BYDAY=-1SU
END:STANDARD
END:VTIMEZONE
BEGIN:VEVENT
UID:6278630:Event:39796
DTSTAMP:20260422T062522Z
SUMMARY:Big Green Bookshop Local Market
DESCRIPTION:This will be the biggest and most exciting Market so far.\
 nBGBS are going to be pulling out all the stops for this one and they 
 really want you to come along.\nThere'll be stalls, inside and out sel
 ling all sorts of great stuff. Foodwise, there will be cakes, cupcakes
 , cookies, fruit and veg, locally produced preserves, freshly squeezed
  apple juice, breads, and more (barbecue anyone?).\nAlso cards, amazin
 g ceramics, knitted tortoises and knitted Charles Darwins (yes really)
 , tote bags and shiatsu massage. More to be announced.\nThere's always
  room for more, so if you'd like to have a stall, you have stuff to se
 ll and are LOCAL, please get in touch. The stalls are free. (enquiries
 @biggreenbookshop.com, 020 8881 6767).\nOf course the shop will be ope
 n selling the best stuff of all… Books.\n\n\nFor more information vi
 sit https://bowesandbounds.org/events/big-green-bookshop-local-market-
 2
DTSTART;TZID=Europe/London:20120520T103000
DTEND;TZID=Europe/London:20120520T130000
CATEGORIES:market
LOCATION:Wood Green
WEBSITE:http://maps.google.co.uk/maps/place?q=biggreenbookshop&cid=128
 69824617252190591
URL:http://maps.google.co.uk/maps/place?q=biggreenbookshop&cid=1286982
 4617252190591
CONTACT:
ORGANIZER:Big Green Bookshop
ATTACH;FMTTYPE="image/jpeg":http://storage.ning.com/topology/rest/1.0/
 file/get/2287224772?profile=original
ATTENDEE;ROLE=REQ-PARTICIPANT;PARTSTAT=ACCEPTED;RSVP=TRUE;CN=Administr
 ator:https://bowesandbounds.org/profile/Administrator
END:VEVENT
END:VCALENDAR
