BEGIN:VCALENDAR
PRODID:NingEventWidget-v1
VERSION:2.0
METHOD:PUBLISH
BEGIN:VTIMEZONE
TZID:Europe/London
X-LIC-LOCATION:Europe/London
BEGIN:DAYLIGHT
TZOFFSETFROM:+0000
TZOFFSETTO:+0100
TZNAME:BST
DTSTART:19700329T010000
RRULE:FREQ=YEARLY;BYMONTH=3;BYDAY=-1SU
END:DAYLIGHT
BEGIN:STANDARD
TZOFFSETFROM:+0100
TZOFFSETTO:+0000
TZNAME:GMT
DTSTART:19701025T020000
RRULE:FREQ=YEARLY;BYMONTH=10;BYDAY=-1SU
END:STANDARD
END:VTIMEZONE
BEGIN:VEVENT
UID:6278630:Event:40845
DTSTAMP:20260426T043029Z
SUMMARY:Big Jubilee Lunch in Noel Park
DESCRIPTION:Rachella is Inviting Everyone to the Noel Park Big Lunch\n
 The fourth annual Big Lunch will fall on the same weekend as the Queen
 ’s Diamond Jubilee. So bring your own picnic and join Noel Parkers i
 n Russell Park to celebrate with your neighbours.\nJust go the Russel
 l Park and look for the bunting.More Info\n\nFor more information visi
 t https://bowesandbounds.org/events/big-jubilee-lunch-in-noel-park
DTSTART;TZID=Europe/London:20120603T130000
DTEND;TZID=Europe/London:20120603T150000
CATEGORIES:picnic, jubilee
LOCATION:Noel Park
WEBSITE:http://noelparknorth.wordpress.com/2012/05/28/the-big-jubilee-
 picnic-12/
URL:http://noelparknorth.wordpress.com/2012/05/28/the-big-jubilee-picn
 ic-12/
CONTACT:
ORGANIZER;CN="Richard McKeever":https://bowesandbounds.org/profile/3hw
 xkqhdde8gc
ATTACH;FMTTYPE="image/jpeg":http://storage.ning.com/topology/rest/1.0/
 file/get/2287234313?profile=original
ATTENDEE;ROLE=REQ-PARTICIPANT;PARTSTAT=ACCEPTED;RSVP=TRUE;CN="Rachella
  Sinclair":https://bowesandbounds.org/profile/RachellaSinclair
ATTENDEE;ROLE=REQ-PARTICIPANT;PARTSTAT=ACCEPTED;RSVP=TRUE;CN="Richard 
 McKeever":https://bowesandbounds.org/profile/3hwxkqhdde8gc
END:VEVENT
END:VCALENDAR
