BEGIN:VCALENDAR
PRODID:NingEventWidget-v1
VERSION:2.0
METHOD:PUBLISH
BEGIN:VTIMEZONE
TZID:Europe/London
X-LIC-LOCATION:Europe/London
BEGIN:DAYLIGHT
TZOFFSETFROM:+0000
TZOFFSETTO:+0100
TZNAME:BST
DTSTART:19700329T010000
RRULE:FREQ=YEARLY;BYMONTH=3;BYDAY=-1SU
END:DAYLIGHT
BEGIN:STANDARD
TZOFFSETFROM:+0100
TZOFFSETTO:+0000
TZNAME:GMT
DTSTART:19701025T020000
RRULE:FREQ=YEARLY;BYMONTH=10;BYDAY=-1SU
END:STANDARD
END:VTIMEZONE
BEGIN:VEVENT
UID:6278630:Event:131319
DTSTAMP:20260425T020429Z
SUMMARY:Bird Walk and Bird Ringing Demonstration
DESCRIPTION:We have had a Dawn Chorus Bird Walk, now for one that star
 ts at a more reasonable hour....  Meet at The Grove Car Park at 8am 
 (no booking required)  We will listen out for Flycatchers, Nuthatches,
  Goldcrests (above) and whatever else is singing or displaying in The 
 Grove before Gareth will lead us eastwards across the Park.   With a 
 bit of luck there will be some raptors (birds of prey) in the sky. On 
 previous walks Kestrels, Sparrowhawks, Buzzards and even Peregrines an
 d Hobbies have been seen.  There will be a Bird Ringing demonstration 
 with the purpose of this activity explained, along with a chance to se
 e some birds up close. (Great for kids!)\nwww.friendsofalexandrapark.o
 rg\nLink to all Events coming up in the Park\n\nFor more information v
 isit https://bowesandbounds.org/events/bird-walk-and-bird-ringing-demo
 nstration-1
DTSTART;TZID=Europe/London:20180513T080000
DTEND;TZID=Europe/London:20180513T104500
CATEGORIES:bird, walk
LOCATION:Alexandra Park
WEBSITE:http://www.friendsofalexandrapark.org
URL:http://www.friendsofalexandrapark.org
CONTACT:
ORGANIZER;CN="Stephen Middleton":https://bowesandbounds.org/profile/St
 ephenMiddleton
ATTACH;FMTTYPE="image/jpeg":http://storage.ning.com/topology/rest/1.0/
 file/get/2287329906?profile=original
ATTENDEE;ROLE=REQ-PARTICIPANT;PARTSTAT=ACCEPTED;RSVP=TRUE;CN="Stephen 
 Middleton":https://bowesandbounds.org/profile/StephenMiddleton
END:VEVENT
END:VCALENDAR
