BEGIN:VCALENDAR
PRODID:NingEventWidget-v1
VERSION:2.0
METHOD:PUBLISH
BEGIN:VTIMEZONE
TZID:Europe/London
X-LIC-LOCATION:Europe/London
BEGIN:DAYLIGHT
TZOFFSETFROM:+0000
TZOFFSETTO:+0100
TZNAME:BST
DTSTART:19700329T010000
RRULE:FREQ=YEARLY;BYMONTH=3;BYDAY=-1SU
END:DAYLIGHT
BEGIN:STANDARD
TZOFFSETFROM:+0100
TZOFFSETTO:+0000
TZNAME:GMT
DTSTART:19701025T020000
RRULE:FREQ=YEARLY;BYMONTH=10;BYDAY=-1SU
END:STANDARD
END:VTIMEZONE
BEGIN:VEVENT
UID:6278630:Event:75996
DTSTAMP:20260423T095240Z
SUMMARY:Bird Watching for Everyone
DESCRIPTION:Join expert Andy Hawksworth on a FREE bird watching sessio
 n for beginners and the experienced alike!\nA fantastic variety of bir
 ds have made Trent Park their home, and this is an ideal opportunity t
 o see how many of them you can spot! If you’re a beginner, Andy will
  help you distinguish between the many songs and calls that can be hea
 rd as well as why and how they sing.\nBasic charts, hand-outs and a sm
 all supply of binoculars will be available for use at the event (if yo
 u own a pair of binoculars, please bring them along).\nMeet 10:00am at
  the main car park near the Cockfosters Road entrance (approx. 12:00pm
  finish). No need to book. Distance: no more than 2 miles in total.\n\
 nFor more information visit https://bowesandbounds.org/events/bird-wat
 ching-for-everyone
DTSTART;TZID=Europe/London:20140518T100000
DTEND;TZID=Europe/London:20140518T120000
CATEGORIES:bird, watching, guided, "walk."
LOCATION:Trent Park
WEBSITE:
URL:
CONTACT:
ORGANIZER;CN="Suzanne Linsey":https://bowesandbounds.org/profile/Suzan
 neLinsey
ATTACH;FMTTYPE="image/jpeg":http://storage.ning.com/topology/rest/1.0/
 file/get/2287263719?profile=original
ATTENDEE;ROLE=REQ-PARTICIPANT;PARTSTAT=ACCEPTED;RSVP=TRUE;CN="Suzanne 
 Linsey":https://bowesandbounds.org/profile/SuzanneLinsey
END:VEVENT
END:VCALENDAR
