BEGIN:VCALENDAR
PRODID:NingEventWidget-v1
VERSION:2.0
METHOD:PUBLISH
BEGIN:VTIMEZONE
TZID:Europe/London
X-LIC-LOCATION:Europe/London
BEGIN:DAYLIGHT
TZOFFSETFROM:+0000
TZOFFSETTO:+0100
TZNAME:BST
DTSTART:19700329T010000
RRULE:FREQ=YEARLY;BYMONTH=3;BYDAY=-1SU
END:DAYLIGHT
BEGIN:STANDARD
TZOFFSETFROM:+0100
TZOFFSETTO:+0000
TZNAME:GMT
DTSTART:19701025T020000
RRULE:FREQ=YEARLY;BYMONTH=10;BYDAY=-1SU
END:STANDARD
END:VTIMEZONE
BEGIN:VEVENT
UID:6278630:Event:238149
DTSTAMP:20260422T061138Z
SUMMARY:Birding Fundraiser: Bruce Carson Memorial
DESCRIPTION:One of the park’s most enthusiastic and dedicated birder
 s, Bruce Carson, died suddenly in the summer. We are holding a birding
  event  to celebrate Bruce’s life and to raise funds for much-neede
 d habitat improvement in the Cricket Scrub - an important spot for bir
 ds in Alexandra Park. \n \nBruce’s partner, Fiona, has kindly dona
 ted Bruce’s bird books to the Friends, and we will auction these at 
 the event. You are also invited to bring any of your bird books or oth
 er birdy stuff for a bring-and-buy table. Mark Evison, the Park Manage
 r, will talk about his woodland management plan, which includes the wo
 rk on the Cricket Scrub, and there will be a display of some of the fa
 ntastic bird photographs taken during the year in the park.\n \nThe e
 vent will take place at CUFOS, at the top of The Avenue, N10 2QE, on S
 aturday 20 November starting at 7.30 pm. We will ensure the ventilatio
 n in the room is good, and it will not be crowded. Drinks and nibbles 
 will be served.\nWhether you are someone who knew Bruce, or you are a 
 birder hoping to pick up a good bird book or you would like to hear mo
 re about birding in Alexandra Park, do come along.  If you plan to at
 tend, please send an email to us, stating the number coming, so that w
 e can plan refreshments.\n\nFor more information visit https://bowesan
 dbounds.org/events/birding-fundraiser-bruce-carson-memorial
DTSTART;TZID=Europe/London:20211120T193000
DTEND;TZID=Europe/London:20211120T211500
CATEGORIES:auction, birds
LOCATION:CUFOS
WEBSITE:http://www.friendsofalexandrapark.org
URL:http://www.friendsofalexandrapark.org
CONTACT:
ORGANIZER;CN="Stephen Middleton":https://bowesandbounds.org/profile/St
 ephenMiddleton
ATTACH;FMTTYPE="image/jpeg":https://storage.ning.com/topology/rest/1.0
 /file/get/9797532878?profile=original
ATTENDEE;ROLE=REQ-PARTICIPANT;PARTSTAT=ACCEPTED;RSVP=TRUE;CN="Stephen 
 Middleton":https://bowesandbounds.org/profile/StephenMiddleton
END:VEVENT
END:VCALENDAR
