BEGIN:VCALENDAR
PRODID:NingEventWidget-v1
VERSION:2.0
METHOD:PUBLISH
BEGIN:VTIMEZONE
TZID:Europe/London
X-LIC-LOCATION:Europe/London
BEGIN:DAYLIGHT
TZOFFSETFROM:+0000
TZOFFSETTO:+0100
TZNAME:BST
DTSTART:19700329T010000
RRULE:FREQ=YEARLY;BYMONTH=3;BYDAY=-1SU
END:DAYLIGHT
BEGIN:STANDARD
TZOFFSETFROM:+0100
TZOFFSETTO:+0000
TZNAME:GMT
DTSTART:19701025T020000
RRULE:FREQ=YEARLY;BYMONTH=10;BYDAY=-1SU
END:STANDARD
END:VTIMEZONE
BEGIN:VEVENT
UID:6278630:Event:118919
DTSTAMP:20260426T022343Z
SUMMARY:BJJ Beginners Course
DESCRIPTION:Just wanted to let you know about a course we are running 
 in January 2017. \n\n\nAlexandra Park BJJ will be running a 4 week 
 introductory course in January 2017. It will cover all the basic skill
 s and movements of Brazilian Jiu Jitsu.\n\nThe course enables you to d
 evelop your fitness levels, balance, coordination and flexibility deve
 lop in a no-pressure environment and provides the opportunity to start
  a new sport at a reasonable price with like minded beginners. \n\nCo
 urse will run on Thursdays 7.30pm-9.00pm at Alexandra Park School, Rho
 des Avenue, London, N22 7UT.\n\nAll participants on the course will be
  able to attend our Monday and Saturday classes for free for the durat
 ion of the course.\n\nPrices:\n\n£25 per person (+booking fee)\n£20 
 per person with concessions for full time students/ unwaged (+ booking
  fee)\n\nLimited space so please book in advance\nhttps://www.eventbri
 te.co.uk/e/brazilian-jiu-jitsu-beginners-course-bjj-tickets-2881854203
 5\n\nFor more information visit https://bowesandbounds.org/events/bjj-
 beginners-course
DTSTART;TZID=Europe/London:20170105T193000
DTEND;TZID=Europe/London:20170126T193000
CATEGORIES:martial, arts, course
LOCATION:Alexandra Park School
WEBSITE:http://Alexandraprkbjj.co.uk
URL:http://Alexandraprkbjj.co.uk
CONTACT:
ORGANIZER;CN="Fed Ra":https://bowesandbounds.org/profile/FedRa
ATTACH;FMTTYPE="image/jpeg":http://storage.ning.com/topology/rest/1.0/
 file/get/2287318450?profile=original
ATTENDEE;ROLE=REQ-PARTICIPANT;PARTSTAT=ACCEPTED;RSVP=TRUE;CN=n10bjj:ht
 tps://bowesandbounds.org/profile/n10bjj
ATTENDEE;ROLE=REQ-PARTICIPANT;PARTSTAT=ACCEPTED;RSVP=TRUE;CN="Fed Ra":
 https://bowesandbounds.org/profile/FedRa
END:VEVENT
END:VCALENDAR
