BEGIN:VCALENDAR
PRODID:NingEventWidget-v1
VERSION:2.0
METHOD:PUBLISH
BEGIN:VTIMEZONE
TZID:Europe/London
X-LIC-LOCATION:Europe/London
BEGIN:DAYLIGHT
TZOFFSETFROM:+0000
TZOFFSETTO:+0100
TZNAME:BST
DTSTART:19700329T010000
RRULE:FREQ=YEARLY;BYMONTH=3;BYDAY=-1SU
END:DAYLIGHT
BEGIN:STANDARD
TZOFFSETFROM:+0100
TZOFFSETTO:+0000
TZNAME:GMT
DTSTART:19701025T020000
RRULE:FREQ=YEARLY;BYMONTH=10;BYDAY=-1SU
END:STANDARD
END:VTIMEZONE
BEGIN:VEVENT
UID:6278630:Event:127184
DTSTAMP:20260420T024435Z
SUMMARY:Black History Month: Munch and Listen - All About Carnival: a 
 medley of films on history of carnival
DESCRIPTION:Join us for an enjoyable and fun programme of short films 
 dating from the 1950s and 60s from Trinidad, Notting Hill and Haringey
 . You can find out about different parades, the meaning and use of cos
 tumes and the origins and history of carnival in Trinidad, and Notting
  Hill. Will definitely get you toe-tapping (if not dancing in the aisl
 es…).\nAll welcome\nDoors open at 12 noon.\nKindly supported by the 
 Friends of Bruce Castle.\n\nFor more information visit https://bowesan
 dbounds.org/events/black-history-month-munch-amp-listen-all-about-carn
 ival-a-medley
DTSTART;TZID=Europe/London:20171030T121500
DTEND;TZID=Europe/London:20171030T131500
CATEGORIES:black, history, lunchtime, event, films, local, carnival
LOCATION:Bruce Castle Museum
WEBSITE:http://www.haringey.gov.uk/brucecastlemuseum
URL:http://www.haringey.gov.uk/brucecastlemuseum
CONTACT:020 8808 8772
ORGANIZER;CN="Deborah Hedgecock":https://bowesandbounds.org/profile/De
 borahHedgecock
ATTACH;FMTTYPE="image/jpeg":http://storage.ning.com/topology/rest/1.0/
 file/get/2287320857?profile=original
ATTENDEE;ROLE=REQ-PARTICIPANT;PARTSTAT=ACCEPTED;RSVP=TRUE;CN="Deborah 
 Hedgecock":https://bowesandbounds.org/profile/DeborahHedgecock
END:VEVENT
END:VCALENDAR
