BEGIN:VCALENDAR
PRODID:NingEventWidget-v1
VERSION:2.0
METHOD:PUBLISH
BEGIN:VTIMEZONE
TZID:Europe/London
X-LIC-LOCATION:Europe/London
BEGIN:DAYLIGHT
TZOFFSETFROM:+0000
TZOFFSETTO:+0100
TZNAME:BST
DTSTART:19700329T010000
RRULE:FREQ=YEARLY;BYMONTH=3;BYDAY=-1SU
END:DAYLIGHT
BEGIN:STANDARD
TZOFFSETFROM:+0100
TZOFFSETTO:+0000
TZNAME:GMT
DTSTART:19701025T020000
RRULE:FREQ=YEARLY;BYMONTH=10;BYDAY=-1SU
END:STANDARD
END:VTIMEZONE
BEGIN:VEVENT
UID:6278630:Event:110255
DTSTAMP:20260422T025559Z
SUMMARY:Bollywood Dance Classes
DESCRIPTION:Join in the fun, improving health & fitness with Bollywood
  Dance. \nAll ages and levels are welcome every Tuesday at 5.30pm in 
 Wood Green's Asian Centre.   \nImprove your flexibility, co-ordinati
 on and posture, keep both body and brain active, learn new skills and 
 develop techniques within a friendly environment.\nThe Asian Centre ho
 sts Bollywood Dance classes every Tuesday from 5.30 pm to 6.30 pm.\nVe
 nue: Asian Centre, 8 Caxton Road, Wood Green, London N22 6TBSession Fe
 e: £5 per session\nDrop in or attend a block of 10 sessions.\nContact
  info@asiancentre.co.uk or call 020 8889 6938 for more info/bookings o
 r just drop in any Tuesday at 5.30pm.\n\nFor more information visit ht
 tps://bowesandbounds.org/events/bollywood-dance-classes
DTSTART;TZID=Europe/London:20160322T173000
DTEND;TZID=Europe/London:20160322T183000
CATEGORIES:class, bollywood, dance, fitness, fun
LOCATION:Asian Centre
WEBSITE:https://www.google.co.uk/maps/place/Asian+Centre/@51.5951659,-
 0.1127991,17z/data=!3m1!4b1!4m2!3m1!1s0x48761be3c28afe7d:0x2eb1824415f
 da6fa?hl=en
URL:https://www.google.co.uk/maps/place/Asian+Centre/@51.5951659,-0.11
 27991,17z/data=!3m1!4b1!4m2!3m1!1s0x48761be3c28afe7d:0x2eb1824415fda6f
 a?hl=en
CONTACT:020 8889 6938
ORGANIZER;CN="Collage Artspaces":https://bowesandbounds.org/profile/Co
 llage_Arts
ATTACH;FMTTYPE="image/jpeg":http://storage.ning.com/topology/rest/1.0/
 file/get/2287305005?profile=original
ATTENDEE;ROLE=REQ-PARTICIPANT;PARTSTAT=ACCEPTED;RSVP=TRUE;CN="Collage 
 Artspaces":https://bowesandbounds.org/profile/Collage_Arts
END:VEVENT
END:VCALENDAR
