BEGIN:VCALENDAR
PRODID:NingEventWidget-v1
VERSION:2.0
METHOD:PUBLISH
BEGIN:VTIMEZONE
TZID:Europe/London
X-LIC-LOCATION:Europe/London
BEGIN:DAYLIGHT
TZOFFSETFROM:+0000
TZOFFSETTO:+0100
TZNAME:BST
DTSTART:19700329T010000
RRULE:FREQ=YEARLY;BYMONTH=3;BYDAY=-1SU
END:DAYLIGHT
BEGIN:STANDARD
TZOFFSETFROM:+0100
TZOFFSETTO:+0000
TZNAME:GMT
DTSTART:19701025T020000
RRULE:FREQ=YEARLY;BYMONTH=10;BYDAY=-1SU
END:STANDARD
END:VTIMEZONE
BEGIN:VEVENT
UID:6278630:Event:242498
DTSTAMP:20260420T133234Z
SUMMARY:Bounds Green + Bowes Community Bike Ride
DESCRIPTION:\nThis is a marshalled group cycle that should be safe for
  families with children. We will cycle from Trinity Gardens (between T
 rinity Primary School and the Prince pub), around Bounds Green and Bow
 es before returning to Trinity Gardens. We plan a refreshments break a
 t Hot Milk Café at the halfway point and the Prince will open for ref
 reshments and lunch at the end.\nThis cycle ride is organised by Harin
 gey Cycling Campaign and Enfield Cycling Campaign, together with Bette
 r Streets for Enfield and Haringey Living Streets, to enable cyclists 
 of all ages to explore Bounds Green and Bowes and some of the quieter 
 roads to cycle on.\nThis is an easy 2 mile ride at a leisurely pace, w
 hich should be suitable for less experienced riders. We will proceed a
 t the pace of the slowest riders, so we encourage families with younge
 r riders to be near the front of the ride.\nAccompanied sensible child
 ren are welcome. The cycle ride will take place on roads among other t
 raffic, it is therefore NOT suitable for very young or unaccompanied c
 hildren. As much of this ride as possible takes place in parks and on 
 newly quietened roads.\nPlease register so that you are covered by gro
 up insurance.\nFull details + registration link\n\nFor more informatio
 n visit https://bowesandbounds.org/events/bounds-green-bowes-community
 -bike-ride
DTSTART;TZID=Europe/London:20221227T110000
DTEND;TZID=Europe/London:20221227T130000
CATEGORIES:bike, ride
LOCATION:Start and finish: Trinity Gardens, Bounds Green Road (near th
 e Prince)
WEBSITE:
URL:
CONTACT:
ORGANIZER;CN="Basil Clarke":https://bowesandbounds.org/profile/BasilCl
 arke
ATTACH;FMTTYPE="image/jpeg":https://storage.ning.com/topology/rest/1.0
 /file/get/10916618087?profile=original
ATTENDEE;ROLE=REQ-PARTICIPANT;PARTSTAT=ACCEPTED;RSVP=TRUE;CN="Basil Cl
 arke":https://bowesandbounds.org/profile/BasilClarke
END:VEVENT
END:VCALENDAR
