BEGIN:VCALENDAR
PRODID:NingEventWidget-v1
VERSION:2.0
METHOD:PUBLISH
BEGIN:VTIMEZONE
TZID:Europe/London
X-LIC-LOCATION:Europe/London
BEGIN:DAYLIGHT
TZOFFSETFROM:+0000
TZOFFSETTO:+0100
TZNAME:BST
DTSTART:19700329T010000
RRULE:FREQ=YEARLY;BYMONTH=3;BYDAY=-1SU
END:DAYLIGHT
BEGIN:STANDARD
TZOFFSETFROM:+0100
TZOFFSETTO:+0000
TZNAME:GMT
DTSTART:19701025T020000
RRULE:FREQ=YEARLY;BYMONTH=10;BYDAY=-1SU
END:STANDARD
END:VTIMEZONE
BEGIN:VEVENT
UID:6278630:Event:123053
DTSTAMP:20260424T223855Z
SUMMARY:Bounds Green Community Action Public Meeting
DESCRIPTION:A group of local residents are coming together to discuss 
 improving the green outside the Ranelagh (Tewkesbury Terrace open spac
 e) and other local issues. Is there a residents association already lo
 oking after this or would you like to get involved? Everyone is welcom
 e and it would be great to find out more about the history of the area
  and hear a broad range of ideas. We have a facebook group where you c
 an find out more or let us know your views if you can't make it.\n\nFo
 r more information visit https://bowesandbounds.org/events/bounds-gree
 n-community-action-public-meeting
DTSTART;TZID=Europe/London:20170517T200000
DTEND;TZID=Europe/London:20170517T210000
CATEGORIES:community, meeting
LOCATION:The Ranelagh Pub
WEBSITE:https://www.facebook.com/groups/boundsgreencommunityaction/
URL:https://www.facebook.com/groups/boundsgreencommunityaction/
CONTACT:
ORGANIZER;CN="Emmy Beazley":https://bowesandbounds.org/profile/Emmelin
 eBeazley
ATTACH;FMTTYPE="image/jpeg":
ATTENDEE;ROLE=REQ-PARTICIPANT;PARTSTAT=ACCEPTED;RSVP=TRUE;CN="Emmy Bea
 zley":https://bowesandbounds.org/profile/EmmelineBeazley
END:VEVENT
END:VCALENDAR
