BEGIN:VCALENDAR
PRODID:NingEventWidget-v1
VERSION:2.0
METHOD:PUBLISH
BEGIN:VTIMEZONE
TZID:Europe/London
X-LIC-LOCATION:Europe/London
BEGIN:DAYLIGHT
TZOFFSETFROM:+0000
TZOFFSETTO:+0100
TZNAME:BST
DTSTART:19700329T010000
RRULE:FREQ=YEARLY;BYMONTH=3;BYDAY=-1SU
END:DAYLIGHT
BEGIN:STANDARD
TZOFFSETFROM:+0100
TZOFFSETTO:+0000
TZNAME:GMT
DTSTART:19701025T020000
RRULE:FREQ=YEARLY;BYMONTH=10;BYDAY=-1SU
END:STANDARD
END:VTIMEZONE
BEGIN:VEVENT
UID:6278630:Event:87150
DTSTAMP:20260426T024133Z
SUMMARY:Bounds Green School Christmas Bazaar
DESCRIPTION:It's Christmas Fair time Bounds Green!\nHave fun andÂ do y
 our Christmas shopping at theÂ  fabulous Bounds Green school bazaar. Â
  Father Christmas will be there!\nYou'll find gift stalls, craft activ
 ities for the kids, delicious food, amazing raffleÂ & auction prizes. 
 Â \nAll profits go to the school so please bring along yourÂ  friends 
 to support Bounds Green School.\nENTRANCE ONLY Â£1. KIDS GO FREE!\n\n\
 nFor more information visit https://bowesandbounds.org/events/bounds-g
 reen-school-christmas-bazaar-3
DTSTART;TZID=Europe/London:20141206T120000
DTEND;TZID=Europe/London:20141206T150000
CATEGORIES:"christmas fair", bazaar
LOCATION:Bounds Green
WEBSITE:https://maps.google.co.uk/maps?f=q&source=s_q&hl=en&geocode=&q
 =n11+2qg&aq=&sll=51.528642,-0.101599&sspn=0.6852,1.803131&vpsrc=0&ie=U
 TF8&hq=&hnear=N11+2QG,+United+Kingdom&t=m&z=16
URL:https://maps.google.co.uk/maps?f=q&source=s_q&hl=en&geocode=&q=n11
 +2qg&aq=&sll=51.528642,-0.101599&sspn=0.6852,1.803131&vpsrc=0&ie=UTF8&
 hq=&hnear=N11+2QG,+United+Kingdom&t=m&z=16
CONTACT:
ORGANIZER:
ATTACH;FMTTYPE="image/jpeg":http://storage.ning.com/topology/rest/1.0/
 file/get/2287275056?profile=original
ATTENDEE;ROLE=REQ-PARTICIPANT;PARTSTAT=ACCEPTED;RSVP=TRUE;CN=Administr
 ator:https://bowesandbounds.org/profile/Administrator
END:VEVENT
END:VCALENDAR
