BEGIN:VCALENDAR
PRODID:NingEventWidget-v1
VERSION:2.0
METHOD:PUBLISH
BEGIN:VTIMEZONE
TZID:Europe/London
X-LIC-LOCATION:Europe/London
BEGIN:DAYLIGHT
TZOFFSETFROM:+0000
TZOFFSETTO:+0100
TZNAME:BST
DTSTART:19700329T010000
RRULE:FREQ=YEARLY;BYMONTH=3;BYDAY=-1SU
END:DAYLIGHT
BEGIN:STANDARD
TZOFFSETFROM:+0100
TZOFFSETTO:+0000
TZNAME:GMT
DTSTART:19701025T020000
RRULE:FREQ=YEARLY;BYMONTH=10;BYDAY=-1SU
END:STANDARD
END:VTIMEZONE
BEGIN:VEVENT
UID:6278630:Event:40574
DTSTAMP:20260426T014021Z
SUMMARY:Bounds Green School Summer Festival
DESCRIPTION:FAMILY FUN AND ENTERTAINMENT FOR ALL!  \n30th June 2012 f
 rom 12 - 3pm\nBounds Green Schools biggest annual event is nearly here
 . Our Summer Festival will celebrate everything that’s great about 
 our school and community. \nYou’ll be able to Dance, Sing and Drum;
  watch a Puppet Show; play Games; see inside a real live Fire Engine; 
 eat fantastic Food; Shop for gifts and treats; have fun with Face Pain
 ting, Tattoos and a Nail Bar; win Prizes and much, much more! \nWould
  you like to rent a stall or promote your business on our event progra
 mme?  Space is running out so contact us soon at boundsgreenschoolpsf
 a@live.co.uk SAVE THE DATE – COME ALONG AND HAVE FUN!\n \n\nFor mor
 e information visit https://bowesandbounds.org/events/bounds-green-sch
 ool-summer-festival
DTSTART;TZID=Europe/London:20120630T120000
DTEND;TZID=Europe/London:20120630T150000
CATEGORIES:school, summer, festival, fundraiser
LOCATION:Bounds Green School
WEBSITE:http://maps.google.com/maps?f=q&source=s_q&hl=en&geocode=&q=n1
 1+2qg&aq=&sll=37.0625,-95.677068&sspn=29.219963,35.244141&vpsrc=0&ie=U
 TF8&hq=&hnear=N11+2QG,+United+Kingdom&t=m&z=15
URL:http://maps.google.com/maps?f=q&source=s_q&hl=en&geocode=&q=n11+2q
 g&aq=&sll=37.0625,-95.677068&sspn=29.219963,35.244141&vpsrc=0&ie=UTF8&
 hq=&hnear=N11+2QG,+United+Kingdom&t=m&z=15
CONTACT:
ORGANIZER;CN="Nike Siffre":https://bowesandbounds.org/profile/NikeSiff
 re
ATTACH;FMTTYPE="image/jpeg":http://storage.ning.com/topology/rest/1.0/
 file/get/2287234496?profile=original
ATTENDEE;ROLE=REQ-PARTICIPANT;PARTSTAT=ACCEPTED;RSVP=TRUE;CN="Zaza S":
 https://bowesandbounds.org/profile/ZazaSmith364
ATTENDEE;ROLE=REQ-PARTICIPANT;PARTSTAT=ACCEPTED;RSVP=TRUE;CN="Nike Sif
 fre":https://bowesandbounds.org/profile/NikeSiffre
END:VEVENT
END:VCALENDAR
