BEGIN:VCALENDAR
PRODID:NingEventWidget-v1
VERSION:2.0
METHOD:PUBLISH
BEGIN:VTIMEZONE
TZID:Europe/London
X-LIC-LOCATION:Europe/London
BEGIN:DAYLIGHT
TZOFFSETFROM:+0000
TZOFFSETTO:+0100
TZNAME:BST
DTSTART:19700329T010000
RRULE:FREQ=YEARLY;BYMONTH=3;BYDAY=-1SU
END:DAYLIGHT
BEGIN:STANDARD
TZOFFSETFROM:+0100
TZOFFSETTO:+0000
TZNAME:GMT
DTSTART:19701025T020000
RRULE:FREQ=YEARLY;BYMONTH=10;BYDAY=-1SU
END:STANDARD
END:VTIMEZONE
BEGIN:VEVENT
UID:6278630:Event:250936
DTSTAMP:20260421T231400Z
SUMMARY:BOUNDS GREEN WARD PANEL/COMMUNITY SAFETY MEETING
DESCRIPTION:This meeting is for all residents living, working or study
 ing in Bounds Green Ward. This is your opportunity to raise any concer
 ns you may have re crime and safety in Bounds Green Ward, with your lo
 cal SNT (Safer Neighbourhood Team). All Bounds Green Ward residents ar
 e welcome.\n\nFor more information visit https://bowesandbounds.org/ev
 ents/bounds-green-ward-panel-community-safety-meeting-1
DTSTART;TZID=Europe/London:20250702T183000
DTEND;TZID=Europe/London:20250702T193000
CATEGORIES:community, safety, meeting
LOCATION:Bounds Green Primary School, main gate, Bounds Green Road
WEBSITE:
URL:
CONTACT:07464940405
ORGANIZER;CN="Hazel Stokes":https://bowesandbounds.org/profile/HazelSt
 okes748
ATTACH;FMTTYPE="image/jpeg":
ATTENDEE;ROLE=REQ-PARTICIPANT;PARTSTAT=ACCEPTED;RSVP=TRUE;CN="Hazel St
 okes":https://bowesandbounds.org/profile/HazelStokes748
END:VEVENT
END:VCALENDAR
