BEGIN:VCALENDAR
PRODID:NingEventWidget-v1
VERSION:2.0
METHOD:PUBLISH
BEGIN:VTIMEZONE
TZID:Europe/London
X-LIC-LOCATION:Europe/London
BEGIN:DAYLIGHT
TZOFFSETFROM:+0000
TZOFFSETTO:+0100
TZNAME:BST
DTSTART:19700329T010000
RRULE:FREQ=YEARLY;BYMONTH=3;BYDAY=-1SU
END:DAYLIGHT
BEGIN:STANDARD
TZOFFSETFROM:+0100
TZOFFSETTO:+0000
TZNAME:GMT
DTSTART:19701025T020000
RRULE:FREQ=YEARLY;BYMONTH=10;BYDAY=-1SU
END:STANDARD
END:VTIMEZONE
BEGIN:VEVENT
UID:6278630:Event:243144
DTSTAMP:20260420T185150Z
SUMMARY:Bounds Green Window Show
DESCRIPTION:Bounds Green Window Show is an annual illuminated exhibiti
 on in our windows, made by our North London community. The show is bac
 k on from Friday 03 - Sunday 05 March 2023 and this yearâ€™s theme is 
 SONG. Take a look our exhibition map to find windows near you!If youâ€
 ™d like more information on the event, or would like to join the group
  of volunteers bringing the exhibition to life, emailÂ boundsgreenwind
 owshow@gmail.com\n\nFor more information visit https://bowesandbounds.
 org/events/bounds-green-window-show-2
DTSTART;TZID=Europe/London:20230303T170000
DTEND;TZID=Europe/London:20230305T210000
CATEGORIES:exhibition
LOCATION:Bowes and Bounds
WEBSITE:https://www.bowespark.org.uk/window-show
URL:https://www.bowespark.org.uk/window-show
CONTACT:
ORGANIZER;CN="Daniel Cowan":https://bowesandbounds.org/profile/DanielC
 owan
ATTACH;FMTTYPE="image/jpeg":
ATTENDEE;ROLE=REQ-PARTICIPANT;PARTSTAT=ACCEPTED;RSVP=TRUE;CN="Daniel C
 owan":https://bowesandbounds.org/profile/DanielCowan
END:VEVENT
END:VCALENDAR
