BEGIN:VCALENDAR
PRODID:NingEventWidget-v1
VERSION:2.0
METHOD:PUBLISH
BEGIN:VTIMEZONE
TZID:Europe/London
X-LIC-LOCATION:Europe/London
BEGIN:DAYLIGHT
TZOFFSETFROM:+0000
TZOFFSETTO:+0100
TZNAME:BST
DTSTART:19700329T010000
RRULE:FREQ=YEARLY;BYMONTH=3;BYDAY=-1SU
END:DAYLIGHT
BEGIN:STANDARD
TZOFFSETFROM:+0100
TZOFFSETTO:+0000
TZNAME:GMT
DTSTART:19701025T020000
RRULE:FREQ=YEARLY;BYMONTH=10;BYDAY=-1SU
END:STANDARD
END:VTIMEZONE
BEGIN:VEVENT
UID:6278630:Event:103028
DTSTAMP:20260419T133511Z
SUMMARY:Bowes Park Art Group trip to the Horniman Museum
DESCRIPTION:The museum has an aquarium and collections of African anth
 ropology, musical instruments and natural history, including an enormo
 us walrus; also gardens, cafe and shop. Come and draw or just to enjoy
  the museum, and have a convivial cup of tea.\nMeet at Bounds Green tu
 be station at 1.00, to go by tube and Overground, with a 10-minute uph
 ill walk from Forest Hill station (zone 3). Free entry.\n\nFor more in
 formation visit https://bowesandbounds.org/events/bowes-park-art-group
 -trip-to-the-horniman-museum
DTSTART;TZID=Europe/London:20151115T130000
DTEND;TZID=Europe/London:20151115T180000
CATEGORIES:museum, trip
LOCATION:Forest Hill, South London
WEBSITE:http://www.horniman.ac.uk/home
URL:http://www.horniman.ac.uk/home
CONTACT:07947 321182
ORGANIZER;CN="Catharine Perry":https://bowesandbounds.org/profile/Cath
 arinePerry
ATTACH;FMTTYPE="image/jpeg":http://storage.ning.com/topology/rest/1.0/
 file/get/2287299446?profile=original
ATTENDEE;ROLE=REQ-PARTICIPANT;PARTSTAT=ACCEPTED;RSVP=TRUE;CN="Catharin
 e Perry":https://bowesandbounds.org/profile/CatharinePerry
END:VEVENT
END:VCALENDAR
