BEGIN:VCALENDAR
PRODID:NingEventWidget-v1
VERSION:2.0
METHOD:PUBLISH
BEGIN:VTIMEZONE
TZID:Europe/London
X-LIC-LOCATION:Europe/London
BEGIN:DAYLIGHT
TZOFFSETFROM:+0000
TZOFFSETTO:+0100
TZNAME:BST
DTSTART:19700329T010000
RRULE:FREQ=YEARLY;BYMONTH=3;BYDAY=-1SU
END:DAYLIGHT
BEGIN:STANDARD
TZOFFSETFROM:+0100
TZOFFSETTO:+0000
TZNAME:GMT
DTSTART:19701025T020000
RRULE:FREQ=YEARLY;BYMONTH=10;BYDAY=-1SU
END:STANDARD
END:VTIMEZONE
BEGIN:VEVENT
UID:6278630:Event:70232
DTSTAMP:20260422T232520Z
SUMMARY:Bowes Park Community Choir
DESCRIPTION:Come and be part of our lively and sociable choir as we st
 art the autumn term.  Your first session is free, so come and check 
 us out and see if you would like to join.\nMore information here\n\nFo
 r more information visit https://bowesandbounds.org/events/bowes-park-
 community-choir-3
DTSTART;TZID=Europe/London:20140904T190000
DTEND;TZID=Europe/London:20140904T211500
CATEGORIES:choir
LOCATION:Wood Green
WEBSITE:http://bowesparkcommunitychoir.org/
URL:http://bowesparkcommunitychoir.org/
CONTACT:
ORGANIZER;CN="Alison M":https://bowesandbounds.org/profile/AlisonM
ATTACH;FMTTYPE="image/jpeg":http://storage.ning.com/topology/rest/1.0/
 file/get/2287259543?profile=original
ATTENDEE;ROLE=REQ-PARTICIPANT;PARTSTAT=ACCEPTED;RSVP=TRUE;CN="Alison M
 ":https://bowesandbounds.org/profile/AlisonM
END:VEVENT
END:VCALENDAR
