BEGIN:VCALENDAR
PRODID:NingEventWidget-v1
VERSION:2.0
METHOD:PUBLISH
BEGIN:VTIMEZONE
TZID:Europe/London
X-LIC-LOCATION:Europe/London
BEGIN:DAYLIGHT
TZOFFSETFROM:+0000
TZOFFSETTO:+0100
TZNAME:BST
DTSTART:19700329T010000
RRULE:FREQ=YEARLY;BYMONTH=3;BYDAY=-1SU
END:DAYLIGHT
BEGIN:STANDARD
TZOFFSETFROM:+0100
TZOFFSETTO:+0000
TZNAME:GMT
DTSTART:19701025T020000
RRULE:FREQ=YEARLY;BYMONTH=10;BYDAY=-1SU
END:STANDARD
END:VTIMEZONE
BEGIN:VEVENT
UID:6278630:Event:80504
DTSTAMP:20260424T174815Z
SUMMARY:Bowes Park Community Yoga
DESCRIPTION:Yoga classes each Tuesday at 615pm and Friday at 6pm with 
 Rachel and Catrin.\nTuesday is a dynamic class encouraging you to ener
 gise and explore where you can take you body and mind\n\nFriday is a r
 elaxing class to help you to unwind from your week\n\nContact bowespar
 kyoga@gmail.com to book your place\n\nFor more information visit https
 ://bowesandbounds.org/events/bowes-park-community-yoga-1
DTSTART;TZID=Europe/London:20140701T181500
DTEND;TZID=Europe/London:20140704T183000
CATEGORIES:weekly, yoga, classes, "@the", hub
LOCATION:The Hub 128 Myddleton Road
WEBSITE:
URL:
CONTACT:07515124315
ORGANIZER;CN="Rachel Blunt":https://bowesandbounds.org/profile/RachelB
 lunt
ATTACH;FMTTYPE="image/jpeg":
ATTENDEE;ROLE=REQ-PARTICIPANT;PARTSTAT=ACCEPTED;RSVP=TRUE;CN="Rachel B
 lunt":https://bowesandbounds.org/profile/RachelBlunt
END:VEVENT
END:VCALENDAR
