BEGIN:VCALENDAR
PRODID:NingEventWidget-v1
VERSION:2.0
METHOD:PUBLISH
BEGIN:VTIMEZONE
TZID:Europe/London
X-LIC-LOCATION:Europe/London
BEGIN:DAYLIGHT
TZOFFSETFROM:+0000
TZOFFSETTO:+0100
TZNAME:BST
DTSTART:19700329T010000
RRULE:FREQ=YEARLY;BYMONTH=3;BYDAY=-1SU
END:DAYLIGHT
BEGIN:STANDARD
TZOFFSETFROM:+0100
TZOFFSETTO:+0000
TZNAME:GMT
DTSTART:19701025T020000
RRULE:FREQ=YEARLY;BYMONTH=10;BYDAY=-1SU
END:STANDARD
END:VTIMEZONE
BEGIN:VEVENT
UID:6278630:Event:122348
DTSTAMP:20260421T062219Z
SUMMARY:Bowes Park Drawing Group trip to Museum of London
DESCRIPTION:The Museum of London tells the capital's story from prehi
 storic swamp dwellers to the 1960s in fascinating ways. From Roman car
 vings to medieval effigies, an 18th century pleasure garden and a stre
 et of Victorian shops to a 20th century car and platform shoes, there 
 should be something for everyone.\nThe Museum provides folding stools,
  so you can settle wherever you would like to draw. There is also, of 
 course, a cafe for our cup of tea.\nWe will meet at Bounds Green tube 
 station at 1.00pm to take the Piccadilly line to Holborn and the Centr
 al line to St Pauls, which is a few minutes walk from the Museum. If y
 ou would prefer to meet up at the Museum at about 1.50pm, let us know 
 so that we can look out for you in the entrance. To let us know if you
  plan to come, please email bowesparkdrawing@yahoo.com.\n\nFor more in
 formation visit https://bowesandbounds.org/events/bowes-park-drawing-g
 roup-trip-to-museum-of-london
DTSTART;TZID=Europe/London:20170423T130000
DTEND;TZID=Europe/London:20170423T170000
CATEGORIES:museum, visit
LOCATION:City of London
WEBSITE:https://www.museumoflondon.org.uk/museum-london
URL:https://www.museumoflondon.org.uk/museum-london
CONTACT:07947 321182
ORGANIZER;CN="Catharine Perry":https://bowesandbounds.org/profile/Cath
 arinePerry
ATTACH;FMTTYPE="image/jpeg":http://storage.ning.com/topology/rest/1.0/
 file/get/2287317984?profile=original
ATTENDEE;ROLE=REQ-PARTICIPANT;PARTSTAT=ACCEPTED;RSVP=TRUE;CN="Catharin
 e Perry":https://bowesandbounds.org/profile/CatharinePerry
END:VEVENT
END:VCALENDAR
