BEGIN:VCALENDAR
PRODID:NingEventWidget-v1
VERSION:2.0
METHOD:PUBLISH
BEGIN:VTIMEZONE
TZID:Europe/London
X-LIC-LOCATION:Europe/London
BEGIN:DAYLIGHT
TZOFFSETFROM:+0000
TZOFFSETTO:+0100
TZNAME:BST
DTSTART:19700329T010000
RRULE:FREQ=YEARLY;BYMONTH=3;BYDAY=-1SU
END:DAYLIGHT
BEGIN:STANDARD
TZOFFSETFROM:+0100
TZOFFSETTO:+0000
TZNAME:GMT
DTSTART:19701025T020000
RRULE:FREQ=YEARLY;BYMONTH=10;BYDAY=-1SU
END:STANDARD
END:VTIMEZONE
BEGIN:VEVENT
UID:6278630:Event:79095
DTSTAMP:20260424T161900Z
SUMMARY:Bowes Park Folk Club
DESCRIPTION:Bowes Park Folk Club Showcase â€“ Home-grown talent takes 
 the floor.\nHalf a dozen of our regular performers will play mini-sets
 , plus the newly-formed Bowes Park Shanty Crew will be in full voice!Â
   Floor spots available.Â Â  Admission: Â£4. All-you-can-eat buffet fo
 r Â£9.95 from 7pm.\n\nFor more information visit https://bowesandbound
 s.org/events/bowes-park-folk-club-10
DTSTART;TZID=Europe/London:20140703T200000
DTEND;TZID=Europe/London:20140703T223000
CATEGORIES:folk, music
LOCATION:Mum's Bistro
WEBSITE:
URL:
CONTACT:07947 321182 / 07774 147296
ORGANIZER;CN="Catharine Perry":https://bowesandbounds.org/profile/Cath
 arinePerry
ATTACH;FMTTYPE="image/jpeg":http://storage.ning.com/topology/rest/1.0/
 file/get/2160589330?profile=original
ATTENDEE;ROLE=REQ-PARTICIPANT;PARTSTAT=ACCEPTED;RSVP=TRUE;CN="Catharin
 e Perry":https://bowesandbounds.org/profile/CatharinePerry
END:VEVENT
END:VCALENDAR
