BEGIN:VCALENDAR
PRODID:NingEventWidget-v1
VERSION:2.0
METHOD:PUBLISH
BEGIN:VTIMEZONE
TZID:Europe/London
X-LIC-LOCATION:Europe/London
BEGIN:DAYLIGHT
TZOFFSETFROM:+0000
TZOFFSETTO:+0100
TZNAME:BST
DTSTART:19700329T010000
RRULE:FREQ=YEARLY;BYMONTH=3;BYDAY=-1SU
END:DAYLIGHT
BEGIN:STANDARD
TZOFFSETFROM:+0100
TZOFFSETTO:+0000
TZNAME:GMT
DTSTART:19701025T020000
RRULE:FREQ=YEARLY;BYMONTH=10;BYDAY=-1SU
END:STANDARD
END:VTIMEZONE
BEGIN:VEVENT
UID:6278630:Event:81142
DTSTAMP:20260422T223056Z
SUMMARY:Bowes Park Folk Club
DESCRIPTION:Guest performer:  Andy Mathewson\nFingerstyle guitarist, 
 singer and songwriter specialising in ‘vintage acoustic’ music.  
 Expect a journey through mid-20th Century musical history - pre-World 
 War 2 blues and ragtime, 1940s band numbers sung by Billie Holliday an
 d her contemporaries, and early rock’n’roll - brought up-to-date w
 ith Andy’s own compositions which have received critical acclaim on 
 both sides of the Atlantic.  ‘Exemplary guitar-playing’ Maverick 
 magazine.  ‘Beguiling’  Rock ‘n’ Reel  magazine.\nFloor spo
 ts. All-you-can-eat buffet from 7.15pm, £9.95.\n\nFor more informatio
 n visit https://bowesandbounds.org/events/bowes-park-folk-club-11
DTSTART;TZID=Europe/London:20140904T200000
DTEND;TZID=Europe/London:20140904T223000
CATEGORIES:folk, music
LOCATION:Mum's Bistro
WEBSITE:
URL:
CONTACT:07947 321182
ORGANIZER;CN="Catharine Perry":https://bowesandbounds.org/profile/Cath
 arinePerry
ATTACH;FMTTYPE="image/jpeg":http://storage.ning.com/topology/rest/1.0/
 file/get/2287257399?profile=original
ATTENDEE;ROLE=REQ-PARTICIPANT;PARTSTAT=ACCEPTED;RSVP=TRUE;CN="Suellen 
 edgar":https://bowesandbounds.org/profile/Suellenedgar16
ATTENDEE;ROLE=REQ-PARTICIPANT;PARTSTAT=ACCEPTED;RSVP=TRUE;CN="Catharin
 e Perry":https://bowesandbounds.org/profile/CatharinePerry
END:VEVENT
END:VCALENDAR
