BEGIN:VCALENDAR
PRODID:NingEventWidget-v1
VERSION:2.0
METHOD:PUBLISH
BEGIN:VTIMEZONE
TZID:Europe/London
X-LIC-LOCATION:Europe/London
BEGIN:DAYLIGHT
TZOFFSETFROM:+0000
TZOFFSETTO:+0100
TZNAME:BST
DTSTART:19700329T010000
RRULE:FREQ=YEARLY;BYMONTH=3;BYDAY=-1SU
END:DAYLIGHT
BEGIN:STANDARD
TZOFFSETFROM:+0100
TZOFFSETTO:+0000
TZNAME:GMT
DTSTART:19701025T020000
RRULE:FREQ=YEARLY;BYMONTH=10;BYDAY=-1SU
END:STANDARD
END:VTIMEZONE
BEGIN:VEVENT
UID:6278630:Event:86929
DTSTAMP:20260426T043003Z
SUMMARY:Bowes Park Folk Club
DESCRIPTION:Sing a song of Christmas! Celebrate the Yuletide season wi
 th the Folk Club. Come and enjoy listening to our talented floor perfo
 rmers, and join in (singing ability not required). £5.00. All-you-can
 -eat buffet, £9.95, available from 7pm.\n\nFor more information visit
  https://bowesandbounds.org/events/bowes-park-folk-club-14
DTSTART;TZID=Europe/London:20141204T200000
DTEND;TZID=Europe/London:20141204T223000
CATEGORIES:folk, music, evening
LOCATION:Mum's Bistro
WEBSITE:http://www.bowesandbounds.org/group/bowes-park-folk-club
URL:http://www.bowesandbounds.org/group/bowes-park-folk-club
CONTACT:07774 147296
ORGANIZER;CN="Catharine Perry":https://bowesandbounds.org/profile/Cath
 arinePerry
ATTACH;FMTTYPE="image/jpeg":http://storage.ning.com/topology/rest/1.0/
 file/get/2287264195?profile=original
ATTENDEE;ROLE=REQ-PARTICIPANT;PARTSTAT=ACCEPTED;RSVP=TRUE;CN="Catharin
 e Perry":https://bowesandbounds.org/profile/CatharinePerry
ATTENDEE;ROLE=REQ-PARTICIPANT;PARTSTAT=TENTATIVE;RSVP=TRUE;CN="Jan Wil
 liams":https://bowesandbounds.org/profile/JanWilliams
END:VEVENT
END:VCALENDAR
