BEGIN:VCALENDAR
PRODID:NingEventWidget-v1
VERSION:2.0
METHOD:PUBLISH
BEGIN:VTIMEZONE
TZID:Europe/London
X-LIC-LOCATION:Europe/London
BEGIN:DAYLIGHT
TZOFFSETFROM:+0000
TZOFFSETTO:+0100
TZNAME:BST
DTSTART:19700329T010000
RRULE:FREQ=YEARLY;BYMONTH=3;BYDAY=-1SU
END:DAYLIGHT
BEGIN:STANDARD
TZOFFSETFROM:+0100
TZOFFSETTO:+0000
TZNAME:GMT
DTSTART:19701025T020000
RRULE:FREQ=YEARLY;BYMONTH=10;BYDAY=-1SU
END:STANDARD
END:VTIMEZONE
BEGIN:VEVENT
UID:6278630:Event:126419
DTSTAMP:20260426T040151Z
SUMMARY:Bowes Park Folk Club
DESCRIPTION:Thursday 7 September 8pm -                
                    Somebody Else's Troubles \nOriginal
  Americana Folk from north London !\n&  Another Country\nFather and d
 aughter singing duo Julian Macqueen and Georgia Macqueen Black\nFloor 
 singers welcome. Come early for one of Mum's' meals.\n£5, Mum's Bist
 ro, 143 Myddleton Road, N22 8NG.\nbowesparkfolk@gmail.com   07774 1
 47296\n\nFor more information visit https://bowesandbounds.org/events/
 bowes-park-folk-club-21
DTSTART;TZID=Europe/London:20170907T200000
DTEND;TZID=Europe/London:20170907T223000
CATEGORIES:music
LOCATION:Mum's Bistro, 143 Myddleton Road, N22 8NG
WEBSITE:https://www.google.co.uk/maps/place/Mums+Bistro/@51.6064105,-0
 .1218924,17z/data=!3m1!4b1!4m5!3m4!1s0x487619670d4e498f:0x487917cb9592
 efb5!8m2!3d51.6064105!4d-0.1196984
URL:https://www.google.co.uk/maps/place/Mums+Bistro/@51.6064105,-0.121
 8924,17z/data=!3m1!4b1!4m5!3m4!1s0x487619670d4e498f:0x487917cb9592efb5
 !8m2!3d51.6064105!4d-0.1196984
CONTACT:07774 147296
ORGANIZER:
ATTACH;FMTTYPE="image/jpeg":
ATTENDEE;ROLE=REQ-PARTICIPANT;PARTSTAT=ACCEPTED;RSVP=TRUE;CN="Mary Bla
 ke":https://bowesandbounds.org/profile/MaryBlake
END:VEVENT
END:VCALENDAR
