BEGIN:VCALENDAR
PRODID:NingEventWidget-v1
VERSION:2.0
METHOD:PUBLISH
BEGIN:VTIMEZONE
TZID:Europe/London
X-LIC-LOCATION:Europe/London
BEGIN:DAYLIGHT
TZOFFSETFROM:+0000
TZOFFSETTO:+0100
TZNAME:BST
DTSTART:19700329T010000
RRULE:FREQ=YEARLY;BYMONTH=3;BYDAY=-1SU
END:DAYLIGHT
BEGIN:STANDARD
TZOFFSETFROM:+0100
TZOFFSETTO:+0000
TZNAME:GMT
DTSTART:19701025T020000
RRULE:FREQ=YEARLY;BYMONTH=10;BYDAY=-1SU
END:STANDARD
END:VTIMEZONE
BEGIN:VEVENT
UID:6278630:Event:63807
DTSTAMP:20260425T114037Z
SUMMARY:Bowes Park Folk Club
DESCRIPTION:Our guest performers are Shambolica, a London-based three-
 piece featuring Kerry's beautiful vocals, and solid instrumental rhyth
 ms from Martin and Andy, who also contribute two impressive moustaches
  and a dubious sense of humour. Influenced by English and American tra
 ditions, as well as contemporary singer-songwriters, their music range
 s from beautifully reflective to foot-tapping high energy.\nSingers, p
 layers, reciters and join-in-the-chorusers all welcome for a convivial
  folk evening at The Step.\n£5, food and drink from the bar downstair
 s. Numbers limited, come early.\n\nFor more information visit https://
 bowesandbounds.org/events/bowes-park-folk-club-4
DTSTART;TZID=Europe/London:20131107T200000
DTEND;TZID=Europe/London:20131107T220000
CATEGORIES:folk, music, evening
LOCATION:The Step Upstairs
WEBSITE:
URL:
CONTACT:07947 321182
ORGANIZER;CN="Catharine Perry":https://bowesandbounds.org/profile/Cath
 arinePerry
ATTACH;FMTTYPE="image/jpeg":http://storage.ning.com/topology/rest/1.0/
 file/get/2160589330?profile=original
ATTENDEE;ROLE=REQ-PARTICIPANT;PARTSTAT=ACCEPTED;RSVP=TRUE;CN="Catharin
 e Perry":https://bowesandbounds.org/profile/CatharinePerry
END:VEVENT
END:VCALENDAR
