BEGIN:VCALENDAR
PRODID:NingEventWidget-v1
VERSION:2.0
METHOD:PUBLISH
BEGIN:VTIMEZONE
TZID:Europe/London
X-LIC-LOCATION:Europe/London
BEGIN:DAYLIGHT
TZOFFSETFROM:+0000
TZOFFSETTO:+0100
TZNAME:BST
DTSTART:19700329T010000
RRULE:FREQ=YEARLY;BYMONTH=3;BYDAY=-1SU
END:DAYLIGHT
BEGIN:STANDARD
TZOFFSETFROM:+0100
TZOFFSETTO:+0000
TZNAME:GMT
DTSTART:19701025T020000
RRULE:FREQ=YEARLY;BYMONTH=10;BYDAY=-1SU
END:STANDARD
END:VTIMEZONE
BEGIN:VEVENT
UID:6278630:Event:118093
DTSTAMP:20260425T033845Z
SUMMARY:Bowes Park Folk Club Christmas Party
DESCRIPTION:Come and enjoy a festive time with our talented local perf
 ormers and singalongs! Come early and enjoy Mum's mediterranean cuisin
 e.\n\nFor more information visit https://bowesandbounds.org/events/bow
 es-park-folk-club-christmas-party-1
DTSTART;TZID=Europe/London:20161201T200000
DTEND;TZID=Europe/London:20161201T223000
CATEGORIES:folk, music, evening
LOCATION:Mum's Bistro, 143 Myddleton Road, N22 8NG
WEBSITE:http://www.bowesandbounds.org/group/bowes-park-folk-club
URL:http://www.bowesandbounds.org/group/bowes-park-folk-club
CONTACT:07774 147296
ORGANIZER;CN="Catharine Perry":https://bowesandbounds.org/profile/Cath
 arinePerry
ATTACH;FMTTYPE="image/jpeg":http://storage.ning.com/topology/rest/1.0/
 file/get/2287314294?profile=original
ATTENDEE;ROLE=REQ-PARTICIPANT;PARTSTAT=ACCEPTED;RSVP=TRUE;CN="Catharin
 e Perry":https://bowesandbounds.org/profile/CatharinePerry
END:VEVENT
END:VCALENDAR
