BEGIN:VCALENDAR
PRODID:NingEventWidget-v1
VERSION:2.0
METHOD:PUBLISH
BEGIN:VTIMEZONE
TZID:Europe/London
X-LIC-LOCATION:Europe/London
BEGIN:DAYLIGHT
TZOFFSETFROM:+0000
TZOFFSETTO:+0100
TZNAME:BST
DTSTART:19700329T010000
RRULE:FREQ=YEARLY;BYMONTH=3;BYDAY=-1SU
END:DAYLIGHT
BEGIN:STANDARD
TZOFFSETFROM:+0100
TZOFFSETTO:+0000
TZNAME:GMT
DTSTART:19701025T020000
RRULE:FREQ=YEARLY;BYMONTH=10;BYDAY=-1SU
END:STANDARD
END:VTIMEZONE
BEGIN:VEVENT
UID:6278630:Event:128466
DTSTAMP:20260424T173618Z
SUMMARY:Bowes Park Folk Club Christmas Party
DESCRIPTION:Chiefly yourselves! with a festive singalong, words provid
 ed. All welcome, performers and audience alike. Eat, drink and be merr
 y!\n\nFor more information visit https://bowesandbounds.org/events/bow
 es-park-folk-club-christmas-party-2
DTSTART;TZID=Europe/London:20171207T200000
DTEND;TZID=Europe/London:20171207T230000
CATEGORIES:folk, music, evening
LOCATION:Mum's Bistro
WEBSITE:
URL:
CONTACT:07774 147296
ORGANIZER;CN="Catharine Perry":https://bowesandbounds.org/profile/Cath
 arinePerry
ATTACH;FMTTYPE="image/jpeg":http://storage.ning.com/topology/rest/1.0/
 file/get/2287322016?profile=original
ATTENDEE;ROLE=REQ-PARTICIPANT;PARTSTAT=ACCEPTED;RSVP=TRUE;CN="Catharin
 e Perry":https://bowesandbounds.org/profile/CatharinePerry
END:VEVENT
END:VCALENDAR
