BEGIN:VCALENDAR
PRODID:NingEventWidget-v1
VERSION:2.0
METHOD:PUBLISH
BEGIN:VTIMEZONE
TZID:Europe/London
X-LIC-LOCATION:Europe/London
BEGIN:DAYLIGHT
TZOFFSETFROM:+0000
TZOFFSETTO:+0100
TZNAME:BST
DTSTART:19700329T010000
RRULE:FREQ=YEARLY;BYMONTH=3;BYDAY=-1SU
END:DAYLIGHT
BEGIN:STANDARD
TZOFFSETFROM:+0100
TZOFFSETTO:+0000
TZNAME:GMT
DTSTART:19701025T020000
RRULE:FREQ=YEARLY;BYMONTH=10;BYDAY=-1SU
END:STANDARD
END:VTIMEZONE
BEGIN:VEVENT
UID:6278630:Event:254112
DTSTAMP:20260424T211947Z
SUMMARY:Bowes Park Folk Club Fundraiser All Day Festival.
DESCRIPTION:All in aid of Bounds Green Food Bank. Free entry just make
  a donation. Food available & full bar & of course great live music! 
 \n\nFor more information visit https://bowesandbounds.org/events/bowes
 -park-folk-club-fundraiser-all-day-festival
DTSTART;TZID=Europe/London:20260425T140000
DTEND;TZID=Europe/London:20260425T230000
CATEGORIES:fundraising, for, bg, food, bank
LOCATION:Bounds Green Bowls &amp; Tennis Club
WEBSITE:
URL:
CONTACT:
ORGANIZER;CN="Amelia  Lawrence":https://bowesandbounds.org/profile/Ame
 liaLawrence368
ATTACH;FMTTYPE="image/jpeg":https://storage.ning.com/topology/rest/1.0
 /file/get/31141683257?profile=original
ATTENDEE;ROLE=REQ-PARTICIPANT;PARTSTAT=ACCEPTED;RSVP=TRUE;CN="Amelia  
 Lawrence":https://bowesandbounds.org/profile/AmeliaLawrence368
END:VEVENT
END:VCALENDAR
