BEGIN:VCALENDAR
PRODID:NingEventWidget-v1
VERSION:2.0
METHOD:PUBLISH
BEGIN:VTIMEZONE
TZID:Europe/London
X-LIC-LOCATION:Europe/London
BEGIN:DAYLIGHT
TZOFFSETFROM:+0000
TZOFFSETTO:+0100
TZNAME:BST
DTSTART:19700329T010000
RRULE:FREQ=YEARLY;BYMONTH=3;BYDAY=-1SU
END:DAYLIGHT
BEGIN:STANDARD
TZOFFSETFROM:+0100
TZOFFSETTO:+0000
TZNAME:GMT
DTSTART:19701025T020000
RRULE:FREQ=YEARLY;BYMONTH=10;BYDAY=-1SU
END:STANDARD
END:VTIMEZONE
BEGIN:VEVENT
UID:6278630:Event:141622
DTSTAMP:20260419T132410Z
SUMMARY:Bowes Park Folk Club Keeping the Folk #2 Feorin and guests
DESCRIPTION:Bowes Park Folk Club will again be keeping the folk in May
 . \r\nThey are repeating last month's formula of a live-streamed first
  half and a pre-recorded second half - hopefully members of the planne
 d guests Feorin will be contributing to both. \r\nMark your calendars 
 and follow the furloughed folk on Facebook for further details... Take
  care all,\n\nFor more information visit https://bowesandbounds.org/ev
 ents/bowes-park-folk-club-keeping-the-folk-2-feorin-and
DTSTART;TZID=Europe/London:20200507T200000
DTEND;TZID=Europe/London:20200507T220000
CATEGORIES:live, music, folk
LOCATION:Online
WEBSITE:https://www.facebook.com/events/294506708186759/
URL:https://www.facebook.com/events/294506708186759/
CONTACT:
ORGANIZER:
ATTACH;FMTTYPE="image/jpeg":http://storage.ning.com/topology/rest/1.0/
 file/get/2287257399?profile=original
ATTENDEE;ROLE=REQ-PARTICIPANT;PARTSTAT=ACCEPTED;RSVP=TRUE;CN="Richard 
 McKeever":https://bowesandbounds.org/profile/3hwxkqhdde8gc
END:VEVENT
END:VCALENDAR
