BEGIN:VCALENDAR
PRODID:NingEventWidget-v1
VERSION:2.0
METHOD:PUBLISH
BEGIN:VTIMEZONE
TZID:Europe/London
X-LIC-LOCATION:Europe/London
BEGIN:DAYLIGHT
TZOFFSETFROM:+0000
TZOFFSETTO:+0100
TZNAME:BST
DTSTART:19700329T010000
RRULE:FREQ=YEARLY;BYMONTH=3;BYDAY=-1SU
END:DAYLIGHT
BEGIN:STANDARD
TZOFFSETFROM:+0100
TZOFFSETTO:+0000
TZNAME:GMT
DTSTART:19701025T020000
RRULE:FREQ=YEARLY;BYMONTH=10;BYDAY=-1SU
END:STANDARD
END:VTIMEZONE
BEGIN:VEVENT
UID:6278630:Event:241076
DTSTAMP:20260421T090210Z
SUMMARY:Bowes Park Folk Club Singers' Night
DESCRIPTION:Open-mic night - free, all welcome. Come sing/ play/ list
 en. Music starts at 7.45pm. Message us if you'd like a spot - or come 
 early and eat delicious Greek food (or do both!)  Feature spots this m
 onth from the brilliant Hark! (handily pictured on the poster) and fro
 m Ash Matthew. \n\nFor more information visit https://bowesandbounds.
 org/events/bowes-park-folk-club-singers-night-1
DTSTART;TZID=Europe/London:20220908T194500
DTEND;TZID=Europe/London:20220908T223000
CATEGORIES:live, music
LOCATION:Mum's Bistro
WEBSITE:https://facebook.com/BowesParkFolkClub
URL:https://facebook.com/BowesParkFolkClub
CONTACT:
ORGANIZER;CN="Catharine Perry":https://bowesandbounds.org/profile/Cath
 arinePerry
ATTACH;FMTTYPE="image/jpeg":https://storage.ning.com/topology/rest/1.0
 /file/get/10803337881?profile=original
ATTENDEE;ROLE=REQ-PARTICIPANT;PARTSTAT=ACCEPTED;RSVP=TRUE;CN="Catharin
 e Perry":https://bowesandbounds.org/profile/CatharinePerry
END:VEVENT
END:VCALENDAR
