BEGIN:VCALENDAR
PRODID:NingEventWidget-v1
VERSION:2.0
METHOD:PUBLISH
BEGIN:VTIMEZONE
TZID:Europe/London
X-LIC-LOCATION:Europe/London
BEGIN:DAYLIGHT
TZOFFSETFROM:+0000
TZOFFSETTO:+0100
TZNAME:BST
DTSTART:19700329T010000
RRULE:FREQ=YEARLY;BYMONTH=3;BYDAY=-1SU
END:DAYLIGHT
BEGIN:STANDARD
TZOFFSETFROM:+0100
TZOFFSETTO:+0000
TZNAME:GMT
DTSTART:19701025T020000
RRULE:FREQ=YEARLY;BYMONTH=10;BYDAY=-1SU
END:STANDARD
END:VTIMEZONE
BEGIN:VEVENT
UID:6278630:Event:41261
DTSTAMP:20260424T101332Z
SUMMARY:Bowes Park Walking Group - Meanderings In Mill Hill
DESCRIPTION:The next walk is on Sunday 24th June, to be led by KevinÂ 
  McGarry, please see details below -  Meanderings In Mill Hill  Assemb
 le at Arnos Grove Station at 1.30, with a view to catching bus 251 at 
 1.40.Â  We will alight at Totteridge War Memorial, cross over the road
  (carefully) to look at the war memorial, and walk through the churchy
 ard.Â  Then down a path through woods, and across fields, and along th
 e Folly Brook. Â  There will then be a short break at the Finchley Gar
 den Centre (limited refreshments and primitive toilets). Then up the h
 ill to Burton Hole Lane and along the Ridgeway to Mill Hill Village wi
 th its village green and pond and the shortest High Street in London.Â
   Then through the grounds of Mill Hill School to Page Street, along t
 he old railway line (which ran from Edgware to Finsbury Park) to Mill 
 Hill East Station.Â  Then to The Mill pub at Holders Hill (this was wh
 ere we took refreshments on the Dollis Brook walk a couple of years ag
 o).Â  Then walk back to Mill Hill East and either bus 221 (every 12 mi
 nutes) to Bounds Green, or bus 382 (every half hour) to Arnos Grove. Â
   Those not wishing to do the full walk can catch bus 221 at Page Stre
 et. Â  The walk is about 3 miles, comprising woodland, open fields, ru
 ral roads and some urban roads, and an old railway path.Â  (Care needs
  to be taken on the woodland path from Totteridge as it can be rather 
 muddy and slippery after rain)\n\nFor more information visit https://b
 owesandbounds.org/events/bowes-park-walking-group-meanderings-in-mill-
 hill
DTSTART;TZID=Europe/London:20120624T133000
DTEND;TZID=Europe/London:20120624T170000
CATEGORIES:walk
LOCATION:Meet at Arnos Grove Tube
WEBSITE:
URL:
CONTACT:
ORGANIZER;CN="Richard McKeever":https://bowesandbounds.org/profile/3hw
 xkqhdde8gc
ATTACH;FMTTYPE="image/jpeg":http://storage.ning.com/topology/rest/1.0/
 file/get/2287235117?profile=original
ATTENDEE;ROLE=REQ-PARTICIPANT;PARTSTAT=ACCEPTED;RSVP=TRUE;CN="Richard 
 McKeever":https://bowesandbounds.org/profile/3hwxkqhdde8gc
END:VEVENT
END:VCALENDAR
