BEGIN:VCALENDAR
PRODID:NingEventWidget-v1
VERSION:2.0
METHOD:PUBLISH
BEGIN:VTIMEZONE
TZID:Europe/London
X-LIC-LOCATION:Europe/London
BEGIN:DAYLIGHT
TZOFFSETFROM:+0000
TZOFFSETTO:+0100
TZNAME:BST
DTSTART:19700329T010000
RRULE:FREQ=YEARLY;BYMONTH=3;BYDAY=-1SU
END:DAYLIGHT
BEGIN:STANDARD
TZOFFSETFROM:+0100
TZOFFSETTO:+0000
TZNAME:GMT
DTSTART:19701025T020000
RRULE:FREQ=YEARLY;BYMONTH=10;BYDAY=-1SU
END:STANDARD
END:VTIMEZONE
BEGIN:VEVENT
UID:6278630:Event:40066
DTSTAMP:20260425T024542Z
SUMMARY:Bowes School Summer Fair
DESCRIPTION:The Annual Bowes School Summer Fair will be Sunday 17 June
  2011, at the School 1-4pm\nLots of fun for children, parents and neig
 hbours - there will be an amazing talent show, numerous activity stall
 s for kids, arts and crafts, toys, cake/teashop, BBQ, Bar, Internation
 al Food stall, face-painting, book stall, and much more.\nA very livel
 y, fun and highly affordable day out.\nOrganised by the Friends of Bow
 es  \n\nFor more information visit https://bowesandbounds.org/events/
 bowes-school-summer-fair-1
DTSTART;TZID=Europe/London:20120617T130000
DTEND;TZID=Europe/London:20120617T160000
CATEGORIES:school, fair
LOCATION:Bowes School
WEBSITE:http://maps.google.co.uk/maps?f=q&source=s_q&hl=&geocode=&q=bo
 wes+school&aq=&gl=uk&g=High+St,+London+N14+6BS&ie=UTF8&z=16&iwloc=A
URL:http://maps.google.co.uk/maps?f=q&source=s_q&hl=&geocode=&q=bowes+
 school&aq=&gl=uk&g=High+St,+London+N14+6BS&ie=UTF8&z=16&iwloc=A
CONTACT:
ORGANIZER:Friends of Bowes School
ATTACH;FMTTYPE="image/jpeg":http://storage.ning.com/topology/rest/1.0/
 file/get/2287224300?profile=original
ATTENDEE;ROLE=REQ-PARTICIPANT;PARTSTAT=ACCEPTED;RSVP=TRUE;CN="Laura Da
 venport":https://bowesandbounds.org/profile/LauraDavenport
ATTENDEE;ROLE=REQ-PARTICIPANT;PARTSTAT=ACCEPTED;RSVP=TRUE;CN="Richard 
 McKeever":https://bowesandbounds.org/profile/3hwxkqhdde8gc
ATTENDEE;ROLE=REQ-PARTICIPANT;PARTSTAT=ACCEPTED;RSVP=TRUE;CN=Administr
 ator:https://bowesandbounds.org/profile/Administrator
END:VEVENT
END:VCALENDAR
