BEGIN:VCALENDAR
PRODID:NingEventWidget-v1
VERSION:2.0
METHOD:PUBLISH
BEGIN:VTIMEZONE
TZID:Europe/London
X-LIC-LOCATION:Europe/London
BEGIN:DAYLIGHT
TZOFFSETFROM:+0000
TZOFFSETTO:+0100
TZNAME:BST
DTSTART:19700329T010000
RRULE:FREQ=YEARLY;BYMONTH=3;BYDAY=-1SU
END:DAYLIGHT
BEGIN:STANDARD
TZOFFSETFROM:+0100
TZOFFSETTO:+0000
TZNAME:GMT
DTSTART:19701025T020000
RRULE:FREQ=YEARLY;BYMONTH=10;BYDAY=-1SU
END:STANDARD
END:VTIMEZONE
BEGIN:VEVENT
UID:6278630:Event:97218
DTSTAMP:20260419T173822Z
SUMMARY:Bowes Ward Area forum
DESCRIPTION:If you have specific issues please contact local councillo
 rs at least one week BEFORE the proposed meeting.\nMeeting will be pla
 nned to start at 7.30pm prompt\n\nFor more information visit https://b
 owesandbounds.org/events/bowes-ward-area-forum
DTSTART;TZID=Europe/London:20150714T191500
DTEND;TZID=Europe/London:20150714T220000
CATEGORIES:"area forum", "bowes ward"
LOCATION:Trinity at Bowes Methodist Church Community site
WEBSITE:http://www.trinityatbowes.co.uk/contact/trinity-at-bowes-metho
 dist-church-community-centre.html
URL:http://www.trinityatbowes.co.uk/contact/trinity-at-bowes-methodist
 -church-community-centre.html
CONTACT:
ORGANIZER;CN="Donald Smith":https://bowesandbounds.org/profile/DonaldS
 mith
ATTACH;FMTTYPE="image/jpeg":
ATTENDEE;ROLE=REQ-PARTICIPANT;PARTSTAT=ACCEPTED;RSVP=TRUE;CN="Donald S
 mith":https://bowesandbounds.org/profile/DonaldSmith
END:VEVENT
END:VCALENDAR
