BEGIN:VCALENDAR
PRODID:NingEventWidget-v1
VERSION:2.0
METHOD:PUBLISH
BEGIN:VTIMEZONE
TZID:Europe/London
X-LIC-LOCATION:Europe/London
BEGIN:DAYLIGHT
TZOFFSETFROM:+0000
TZOFFSETTO:+0100
TZNAME:BST
DTSTART:19700329T010000
RRULE:FREQ=YEARLY;BYMONTH=3;BYDAY=-1SU
END:DAYLIGHT
BEGIN:STANDARD
TZOFFSETFROM:+0100
TZOFFSETTO:+0000
TZNAME:GMT
DTSTART:19701025T020000
RRULE:FREQ=YEARLY;BYMONTH=10;BYDAY=-1SU
END:STANDARD
END:VTIMEZONE
BEGIN:VEVENT
UID:6278630:Event:100644
DTSTAMP:20260425T194251Z
SUMMARY:BPCA Annual Meeting
DESCRIPTION:Do come and join us to find out what’s happening in the 
 area - meet your neighbours and local councillors and most importantly
 , get engaged with us to make Bowes Park an even better place to live.
  We have plans for -\n\nAn update from Veolia on what’s new in rubbi
 sh collection\nOur annual report on our activities, membership and fin
 ances\nNews on what’s happening in Myddleton Road\nOpportunities for
  you to raise issues of concern in the area.\n\nRefreshments will be p
 rovided. Parking is available (access from the south end of Finsbury R
 oad, off Trinity Road).\n\nFor more information visit https://bowesand
 bounds.org/events/bpca-annual-meeting-1
DTSTART;TZID=Europe/London:20150922T193000
DTEND;TZID=Europe/London:20150922T213000
CATEGORIES:community, meeting
LOCATION:Octagon Academy
WEBSITE:http://www.bowespark.org.uk/
URL:http://www.bowespark.org.uk/
CONTACT:
ORGANIZER;CN="Catharine Perry":https://bowesandbounds.org/profile/Cath
 arinePerry
ATTACH;FMTTYPE="image/jpeg":http://storage.ning.com/topology/rest/1.0/
 file/get/2287296088?profile=original
ATTENDEE;ROLE=REQ-PARTICIPANT;PARTSTAT=ACCEPTED;RSVP=TRUE;CN="Catharin
 e Perry":https://bowesandbounds.org/profile/CatharinePerry
END:VEVENT
END:VCALENDAR
