BEGIN:VCALENDAR
PRODID:NingEventWidget-v1
VERSION:2.0
METHOD:PUBLISH
BEGIN:VTIMEZONE
TZID:Europe/London
X-LIC-LOCATION:Europe/London
BEGIN:DAYLIGHT
TZOFFSETFROM:+0000
TZOFFSETTO:+0100
TZNAME:BST
DTSTART:19700329T010000
RRULE:FREQ=YEARLY;BYMONTH=3;BYDAY=-1SU
END:DAYLIGHT
BEGIN:STANDARD
TZOFFSETFROM:+0100
TZOFFSETTO:+0000
TZNAME:GMT
DTSTART:19701025T020000
RRULE:FREQ=YEARLY;BYMONTH=10;BYDAY=-1SU
END:STANDARD
END:VTIMEZONE
BEGIN:VEVENT
UID:6278630:Event:139028
DTSTAMP:20260423T090757Z
SUMMARY:BPCA CEILIDH DECEMBER 2019
DESCRIPTION:barndancers.jpg\nThe BPCA Ceilidh for 2019 is on December 
 7th. Live music, a ploughman's supper and dancing from 7.15 -10.45 at 
 Bounds Green Bowls & Tennis Club, Goring Road N11 Tickets £12.00 from
  Red Sea, Myddleton Road N22 or online from www.goldengiving.com/event
 /bowes-park-ceilidh ;\n\nFor more information visit https://bowesandb
 ounds.org/events/bpca-ceilidh-december-2019
DTSTART;TZID=Europe/London:20191207T191500
DTEND;TZID=Europe/London:20191207T224500
CATEGORIES:community, dance
LOCATION:Bounds Green Bowls &amp; Tennis Club N11 2BS
WEBSITE:
URL:
CONTACT:
ORGANIZER;CN="Audrey Evers":https://bowesandbounds.org/profile/AudreyE
 vers
ATTACH;FMTTYPE="image/jpeg":https://storage.ning.com/topology/rest/1.0
 /file/get/3693403120?profile=original
ATTENDEE;ROLE=REQ-PARTICIPANT;PARTSTAT=ACCEPTED;RSVP=TRUE;CN="Audrey E
 vers":https://bowesandbounds.org/profile/AudreyEvers
END:VEVENT
END:VCALENDAR
