BEGIN:VCALENDAR
PRODID:NingEventWidget-v1
VERSION:2.0
METHOD:PUBLISH
BEGIN:VTIMEZONE
TZID:Europe/London
X-LIC-LOCATION:Europe/London
BEGIN:DAYLIGHT
TZOFFSETFROM:+0000
TZOFFSETTO:+0100
TZNAME:BST
DTSTART:19700329T010000
RRULE:FREQ=YEARLY;BYMONTH=3;BYDAY=-1SU
END:DAYLIGHT
BEGIN:STANDARD
TZOFFSETFROM:+0100
TZOFFSETTO:+0000
TZNAME:GMT
DTSTART:19701025T020000
RRULE:FREQ=YEARLY;BYMONTH=10;BYDAY=-1SU
END:STANDARD
END:VTIMEZONE
BEGIN:VEVENT
UID:6278630:Event:244842
DTSTAMP:20260419T140433Z
SUMMARY:BPFC Extra - Feorin in the Park
DESCRIPTION:Join the Bowes Park Folk Club at the Pavilion Cafe for a S
 unday afternoon of free music. Food and soft and alcoholic drinks avai
 lable. Open mic and highlight act, Feorin. All welcome! Come play/sing
 /listen.\nWith dulcimer, guitar, fiddle and percussion, Feorin seeks t
 o sing the stories that never made it into the history books, and to b
 e a soundtrack to our magical conversation with the natural world.\nSi
 ngers/musicians just turn up on the day or message us in advance to ge
 t your name on the list. bowesparkfolk@gmail.com.\nFREE (collection ta
 ken)\n\nFor more information visit https://bowesandbounds.org/events/b
 pfc-extra-feorin-in-the-park
DTSTART;TZID=Europe/London:20230618T143000
DTEND;TZID=Europe/London:20230618T180000
CATEGORIES:"live music", "folk music"
LOCATION:Pavilion Cafe, O R Tambo Park
WEBSITE:https://bowes-park-folk-club.mailchimpsites.com/
URL:https://bowes-park-folk-club.mailchimpsites.com/
CONTACT:
ORGANIZER;CN="Catharine Perry":https://bowesandbounds.org/profile/Cath
 arinePerry
ATTACH;FMTTYPE="image/jpeg":https://storage.ning.com/topology/rest/1.0
 /file/get/11515759867?profile=original
ATTENDEE;ROLE=REQ-PARTICIPANT;PARTSTAT=ACCEPTED;RSVP=TRUE;CN="Catharin
 e Perry":https://bowesandbounds.org/profile/CatharinePerry
END:VEVENT
END:VCALENDAR
