BEGIN:VCALENDAR
PRODID:NingEventWidget-v1
VERSION:2.0
METHOD:PUBLISH
BEGIN:VTIMEZONE
TZID:Europe/London
X-LIC-LOCATION:Europe/London
BEGIN:DAYLIGHT
TZOFFSETFROM:+0000
TZOFFSETTO:+0100
TZNAME:BST
DTSTART:19700329T010000
RRULE:FREQ=YEARLY;BYMONTH=3;BYDAY=-1SU
END:DAYLIGHT
BEGIN:STANDARD
TZOFFSETFROM:+0100
TZOFFSETTO:+0000
TZNAME:GMT
DTSTART:19701025T020000
RRULE:FREQ=YEARLY;BYMONTH=10;BYDAY=-1SU
END:STANDARD
END:VTIMEZONE
BEGIN:VEVENT
UID:6278630:Event:105962
DTSTAMP:20260423T231109Z
SUMMARY:Brahms Story.
DESCRIPTION:Two local classical concerts with a focus on a key compose
 r and their historical and musical background.\nChildren over 6 welcom
 e. The Brahms programme includes Bach, Beethoven, Paganini, Liszt and 
 Brahms Hungarian Dances and 2nd violin sonata. Children over 6 are wel
 come. An introduction to the music will be posted on purchase of ticke
 ts. A home-made chocolate brownie is also part of the programme.\n\nFo
 r more information visit https://bowesandbounds.org/events/brahms-stor
 y
DTSTART;TZID=Europe/London:20160206T160000
DTEND;TZID=Europe/London:20160206T170000
CATEGORIES:classical, chamber, music
LOCATION:Alexandra Park School
WEBSITE:https://www.google.co.uk/maps/place/Alexandra+Park+Sch
URL:https://www.google.co.uk/maps/place/Alexandra+Park+Sch
CONTACT:0208 888 6536
ORGANIZER;CN="Stephen Baron":https://bowesandbounds.org/profile/Stephe
 nBaron
ATTACH;FMTTYPE="image/jpeg":http://storage.ning.com/topology/rest/1.0/
 file/get/2287302169?profile=original
ATTENDEE;ROLE=REQ-PARTICIPANT;PARTSTAT=ACCEPTED;RSVP=TRUE;CN="Stephen 
 Baron":https://bowesandbounds.org/profile/StephenBaron
END:VEVENT
END:VCALENDAR
