BEGIN:VCALENDAR
PRODID:NingEventWidget-v1
VERSION:2.0
METHOD:PUBLISH
BEGIN:VTIMEZONE
TZID:Europe/London
X-LIC-LOCATION:Europe/London
BEGIN:DAYLIGHT
TZOFFSETFROM:+0000
TZOFFSETTO:+0100
TZNAME:BST
DTSTART:19700329T010000
RRULE:FREQ=YEARLY;BYMONTH=3;BYDAY=-1SU
END:DAYLIGHT
BEGIN:STANDARD
TZOFFSETFROM:+0100
TZOFFSETTO:+0000
TZNAME:GMT
DTSTART:19701025T020000
RRULE:FREQ=YEARLY;BYMONTH=10;BYDAY=-1SU
END:STANDARD
END:VTIMEZONE
BEGIN:VEVENT
UID:6278630:Event:126181
DTSTAMP:20260426T050942Z
SUMMARY:Brass is Back
DESCRIPTION:The London Metropolitan Brass Training Band will be playi
 ng in The Grove.\nHow about enjoying the relaxing delights of live, un
 amplified music in the sylvan surroundings of the Grove. Music from th
 e films, classics, traditional - a varied programme for a summer after
 noon*. Bring a chair, sit on the grass, or just promenade with your i
 ce cream!\nSome pictures from last year....*Weather permitting, of cou
 rse.\nwww.friendsofalexandrapark.org\nLink to all Events coming up in 
 the Park\n\nFor more information visit https://bowesandbounds.org/even
 ts/brass-is-back
DTSTART;TZID=Europe/London:20170903T140000
DTEND;TZID=Europe/London:20170903T153000
CATEGORIES:music, friends
LOCATION:Alexandra Park
WEBSITE:http://www.alexandrapark.org
URL:http://www.alexandrapark.org
CONTACT:
ORGANIZER;CN="Stephen Middleton":https://bowesandbounds.org/profile/St
 ephenMiddleton
ATTACH;FMTTYPE="image/jpeg":http://storage.ning.com/topology/rest/1.0/
 file/get/2287320307?profile=original
ATTENDEE;ROLE=REQ-PARTICIPANT;PARTSTAT=ACCEPTED;RSVP=TRUE;CN="Stephen 
 Middleton":https://bowesandbounds.org/profile/StephenMiddleton
END:VEVENT
END:VCALENDAR
