BEGIN:VCALENDAR
PRODID:NingEventWidget-v1
VERSION:2.0
METHOD:PUBLISH
BEGIN:VTIMEZONE
TZID:Europe/London
X-LIC-LOCATION:Europe/London
BEGIN:DAYLIGHT
TZOFFSETFROM:+0000
TZOFFSETTO:+0100
TZNAME:BST
DTSTART:19700329T010000
RRULE:FREQ=YEARLY;BYMONTH=3;BYDAY=-1SU
END:DAYLIGHT
BEGIN:STANDARD
TZOFFSETFROM:+0100
TZOFFSETTO:+0000
TZNAME:GMT
DTSTART:19701025T020000
RRULE:FREQ=YEARLY;BYMONTH=10;BYDAY=-1SU
END:STANDARD
END:VTIMEZONE
BEGIN:VEVENT
UID:6278630:Event:138616
DTSTAMP:20260423T133752Z
SUMMARY:Brazilian Quartet
DESCRIPTION:The Deicola Neves Quartet will be entertaining you tomorro
 w, Oct 3rd.\nCome and hear some great Brazilian musicians and dance to
  amazing Brazilian rhythms!\n\nFor more information visit https://bowe
 sandbounds.org/events/brazilian-quartet
DTSTART;TZID=Europe/London:20191003T210000
DTEND;TZID=Europe/London:20191003T230000
CATEGORIES:live, music
LOCATION:The Ranelagh
WEBSITE:
URL:
CONTACT:
ORGANIZER;CN=SA:https://bowesandbounds.org/profile/SA
ATTACH;FMTTYPE="image/jpeg":
ATTENDEE;ROLE=REQ-PARTICIPANT;PARTSTAT=ACCEPTED;RSVP=TRUE;CN=SA:https:
 //bowesandbounds.org/profile/SA
END:VEVENT
END:VCALENDAR
