BEGIN:VCALENDAR
PRODID:NingEventWidget-v1
VERSION:2.0
METHOD:PUBLISH
BEGIN:VTIMEZONE
TZID:Europe/London
X-LIC-LOCATION:Europe/London
BEGIN:DAYLIGHT
TZOFFSETFROM:+0000
TZOFFSETTO:+0100
TZNAME:BST
DTSTART:19700329T010000
RRULE:FREQ=YEARLY;BYMONTH=3;BYDAY=-1SU
END:DAYLIGHT
BEGIN:STANDARD
TZOFFSETFROM:+0100
TZOFFSETTO:+0000
TZNAME:GMT
DTSTART:19701025T020000
RRULE:FREQ=YEARLY;BYMONTH=10;BYDAY=-1SU
END:STANDARD
END:VTIMEZONE
BEGIN:VEVENT
UID:6278630:Event:98729
DTSTAMP:20260422T010514Z
SUMMARY:Broomfield Blues: Slide Guitar Special
DESCRIPTION:TheÂ Vintage Blues Music Association with The Friends of B
 roomfield Park present Broomfield Blues 2015\nThe best Blues Music bro
 ught to you every Sunday afternoon in August on the Bandstand in Broom
 field Park. The Vintage Blues Music Association, who run the highly ac
 claimed St Harmonicaâ€™s Blues Club in Southgate, give you some of the
  finest bands and professional artists in a terrific parkland setting 
 complete with hot food, ices, refreshments and a licensed bar. Thanks 
 to sponsorship from Winkworths, admission is free and if you like the 
 music, voluntary contributions into the hat are very welcome.\n\nSunda
 y 2nd August 1.30pm â€“ 5.30pm The Bandstand Broomfield Park, Two of t
 he most accomplished slide guitar players in the UK kick off the 2015 
 Blues season on the Broomfield Bandstand. Graham Hine, slide guitarist
  with the legendary Brett Marvin and the Thunderbolts and Blue Goose r
 ecording artist delivers his solo set of original material with Delta 
 Blues Classics. Martin Fieber, the â€˜Sultan of Slideâ€™ is perhaps th
 e UKâ€™s best kept slide secret. He brings his hugely talented band â€
 ˜The Customtonesâ€™; top notch stuff.\n\nFor more information visit ht
 tps://bowesandbounds.org/events/broomfield-blues-slide-guitar-special
DTSTART;TZID=Europe/London:20150802T133000
DTEND;TZID=Europe/London:20150802T173000
CATEGORIES:music, blues, "broomfield blues"
LOCATION:Broomfield Park Bandstand
WEBSITE:http://www.thevintage.org.uk/broomfield-blues-2015--.html
URL:http://www.thevintage.org.uk/broomfield-blues-2015--.html
CONTACT:
ORGANIZER;CN="Richard McKeever":https://bowesandbounds.org/profile/3hw
 xkqhdde8gc
ATTACH;FMTTYPE="image/jpeg":http://storage.ning.com/topology/rest/1.0/
 file/get/2287292066?profile=original
ATTENDEE;ROLE=REQ-PARTICIPANT;PARTSTAT=ACCEPTED;RSVP=TRUE;CN="Richard 
 McKeever":https://bowesandbounds.org/profile/3hwxkqhdde8gc
END:VEVENT
END:VCALENDAR
