BEGIN:VCALENDAR
PRODID:NingEventWidget-v1
VERSION:2.0
METHOD:PUBLISH
BEGIN:VTIMEZONE
TZID:Europe/London
X-LIC-LOCATION:Europe/London
BEGIN:DAYLIGHT
TZOFFSETFROM:+0000
TZOFFSETTO:+0100
TZNAME:BST
DTSTART:19700329T010000
RRULE:FREQ=YEARLY;BYMONTH=3;BYDAY=-1SU
END:DAYLIGHT
BEGIN:STANDARD
TZOFFSETFROM:+0100
TZOFFSETTO:+0000
TZNAME:GMT
DTSTART:19701025T020000
RRULE:FREQ=YEARLY;BYMONTH=10;BYDAY=-1SU
END:STANDARD
END:VTIMEZONE
BEGIN:VEVENT
UID:6278630:Event:62769
DTSTAMP:20260421T011124Z
SUMMARY:Broomfield Community Orchard - Bee Fun Day
DESCRIPTION:Love Parks Week runs from the 27th July to the 4th August
  and as part of this there will be several events organised in the Br
 oomfield Park Community Orchard. Bee Fun Day: 2-5pm Sunday 28th July A
 n opportunity to meet one of the bee-keepers and learn about our honey
  bees and how to do a bee dance! Come dressed as a bee.\n \nThe orcha
 rd is open every first and third Saturday of the month between 10.00am
  and 12.00 and every Sunday between 2.00 and 4.00pm.\n\nFor more infor
 mation visit https://bowesandbounds.org/events/broomfield-community-or
 chard-bee-fun-day
DTSTART;TZID=Europe/London:20130728T140000
DTEND;TZID=Europe/London:20130728T170000
CATEGORIES:festival
LOCATION:Broomfield Park
WEBSITE:http://www.friendsofbroomfieldpark.org/orchard.php
URL:http://www.friendsofbroomfieldpark.org/orchard.php
CONTACT:
ORGANIZER;CN=Administrator:https://bowesandbounds.org/profile/Administ
 rator
ATTACH;FMTTYPE="image/jpeg":http://storage.ning.com/topology/rest/1.0/
 file/get/2287252275?profile=original
ATTENDEE;ROLE=REQ-PARTICIPANT;PARTSTAT=ACCEPTED;RSVP=TRUE;CN=Administr
 ator:https://bowesandbounds.org/profile/Administrator
END:VEVENT
END:VCALENDAR
