BEGIN:VCALENDAR
PRODID:NingEventWidget-v1
VERSION:2.0
METHOD:PUBLISH
BEGIN:VTIMEZONE
TZID:Europe/London
X-LIC-LOCATION:Europe/London
BEGIN:DAYLIGHT
TZOFFSETFROM:+0000
TZOFFSETTO:+0100
TZNAME:BST
DTSTART:19700329T010000
RRULE:FREQ=YEARLY;BYMONTH=3;BYDAY=-1SU
END:DAYLIGHT
BEGIN:STANDARD
TZOFFSETFROM:+0100
TZOFFSETTO:+0000
TZNAME:GMT
DTSTART:19701025T020000
RRULE:FREQ=YEARLY;BYMONTH=10;BYDAY=-1SU
END:STANDARD
END:VTIMEZONE
BEGIN:VEVENT
UID:6278630:Event:62682
DTSTAMP:20260425T165249Z
SUMMARY:Broomfield Community Orchard - Wild flower Survey
DESCRIPTION:Love Parks Week runs from the 27th July to the 4th August
  and as part of this there will be several events organised in the Br
 oomfield Park Community Orchard. Wednesday 31st July 2-5pmWild flower 
 Survey in Broomfield Community Orchard.Help to identify and record the
  Wild Flowers in the Orchard. Bring along a field guide for wild flowe
 rs, and a camera or sketch book and paints.If you wish to help out ple
 ase emailbroomfieldcommunityorchard@gmail.com\n \nThe orchard is open
  every first and third Saturday of the month between 10.00am and 12.00
  and every Sunday between 2.00 and 4.00pm.\n\nFor more information vis
 it https://bowesandbounds.org/events/broomfield-community-orchard-wild
 -flower-survey
DTSTART;TZID=Europe/London:20130731T140000
DTEND;TZID=Europe/London:20130731T170000
CATEGORIES:gardening
LOCATION:Broomfield Park
WEBSITE:http://www.friendsofbroomfieldpark.org/orchard.php
URL:http://www.friendsofbroomfieldpark.org/orchard.php
CONTACT:
ORGANIZER;CN=Administrator:https://bowesandbounds.org/profile/Administ
 rator
ATTACH;FMTTYPE="image/jpeg":http://storage.ning.com/topology/rest/1.0/
 file/get/2287252275?profile=original
ATTENDEE;ROLE=REQ-PARTICIPANT;PARTSTAT=ACCEPTED;RSVP=TRUE;CN=Administr
 ator:https://bowesandbounds.org/profile/Administrator
END:VEVENT
END:VCALENDAR
