BEGIN:VCALENDAR
PRODID:NingEventWidget-v1
VERSION:2.0
METHOD:PUBLISH
BEGIN:VTIMEZONE
TZID:Europe/London
X-LIC-LOCATION:Europe/London
BEGIN:DAYLIGHT
TZOFFSETFROM:+0000
TZOFFSETTO:+0100
TZNAME:BST
DTSTART:19700329T010000
RRULE:FREQ=YEARLY;BYMONTH=3;BYDAY=-1SU
END:DAYLIGHT
BEGIN:STANDARD
TZOFFSETFROM:+0100
TZOFFSETTO:+0000
TZNAME:GMT
DTSTART:19701025T020000
RRULE:FREQ=YEARLY;BYMONTH=10;BYDAY=-1SU
END:STANDARD
END:VTIMEZONE
BEGIN:VEVENT
UID:6278630:Event:103366
DTSTAMP:20260425T120255Z
SUMMARY:Broomfield Remembrance Service, 11th November
DESCRIPTION:The Mayor of Enfield, local councillors and the British Le
 gion will be attending the annual Remembrance Day service in the Remem
 brance Garden in Broomfield Park on November 11th at 10.40am. This yea
 r students from Broomfield School and Bowes School will be contributin
 g poems and readings while Hazelwood School will be providing a medley
  of World War I songs. The new vicar of Christ Church Southgate, Rev. 
 Chrichton Limbert, will be taking the service where everyone is welcom
 e to commemorate those who lost their lives in the two world wars and 
 more recent conflicts.\nAll welcome to attend but be prompt, please\nW
 heelchair users should use a lap strap for safety reasons.\nPublic Tra
 nsport: Bus Route 121 and Bus Route W6 serve Aldermand Hill;Bus Route 
 299 serves Wilmer Way\nRefreshments available \n\n\nFor more informat
 ion visit https://bowesandbounds.org/events/broomfield-remembrance-ser
 vice-11th-november
DTSTART;TZID=Europe/London:20151111T103000
DTEND;TZID=Europe/London:20151111T113000
CATEGORIES:remembrance, "broomfield park"
LOCATION:Broomfield Park Remembrance Garden
WEBSITE:http://www.friendsofbroomfieldpark.org/images/map_remembrance.
 jpg
URL:http://www.friendsofbroomfieldpark.org/images/map_remembrance.jpg
CONTACT:
ORGANIZER;CN="Donald Smith":https://bowesandbounds.org/profile/DonaldS
 mith
ATTACH;FMTTYPE="image/jpeg":http://storage.ning.com/topology/rest/1.0/
 file/get/2287299510?profile=original
ATTENDEE;ROLE=REQ-PARTICIPANT;PARTSTAT=ACCEPTED;RSVP=TRUE;CN="Donald S
 mith":https://bowesandbounds.org/profile/DonaldSmith
END:VEVENT
END:VCALENDAR
