BEGIN:VCALENDAR
PRODID:NingEventWidget-v1
VERSION:2.0
METHOD:PUBLISH
BEGIN:VTIMEZONE
TZID:Europe/London
X-LIC-LOCATION:Europe/London
BEGIN:DAYLIGHT
TZOFFSETFROM:+0000
TZOFFSETTO:+0100
TZNAME:BST
DTSTART:19700329T010000
RRULE:FREQ=YEARLY;BYMONTH=3;BYDAY=-1SU
END:DAYLIGHT
BEGIN:STANDARD
TZOFFSETFROM:+0100
TZOFFSETTO:+0000
TZNAME:GMT
DTSTART:19701025T020000
RRULE:FREQ=YEARLY;BYMONTH=10;BYDAY=-1SU
END:STANDARD
END:VTIMEZONE
BEGIN:VEVENT
UID:6278630:Event:136323
DTSTAMP:20260423T234920Z
SUMMARY:Brown Boots at Bowes Park Folk Club
DESCRIPTION:A traditional music duo made up of Will Allen on melodeon 
 and Martin Clarke on fiddle\nSoaring lyrical melodies Folk tunes to da
 nce to !\nBounds Green tube (Piccadilly Line) - 10 minutes' walk\nBowe
 s Park overground station - 1 minute's walk\n£7/£5 entry      
   \nCome early for a Mediterranean-inspired menu if you'd like to ea
 t there.\n\nFor more information visit https://bowesandbounds.org/even
 ts/brown-boots-at-bowes-park-folk-club
DTSTART;TZID=Europe/London:20190606T200000
DTEND;TZID=Europe/London:20190606T230000
CATEGORIES:folk, club
LOCATION:Mum's Bistro, 143 Myddleton Rd, Bowes Park, London N22 8NG
WEBSITE:http://www.bowesandbounds.org/group/bowes-park-folk-club
URL:http://www.bowesandbounds.org/group/bowes-park-folk-club
CONTACT:07774147296
ORGANIZER;CN="Anne Heagney":https://bowesandbounds.org/profile/AnneHea
 gney
ATTACH;FMTTYPE="image/jpeg":https://storage.ning.com/topology/rest/1.0
 /file/get/2249311746?profile=original
ATTENDEE;ROLE=REQ-PARTICIPANT;PARTSTAT=ACCEPTED;RSVP=TRUE;CN="Anne Hea
 gney":https://bowesandbounds.org/profile/AnneHeagney
END:VEVENT
END:VCALENDAR
