BEGIN:VCALENDAR
PRODID:NingEventWidget-v1
VERSION:2.0
METHOD:PUBLISH
BEGIN:VTIMEZONE
TZID:Europe/London
X-LIC-LOCATION:Europe/London
BEGIN:DAYLIGHT
TZOFFSETFROM:+0000
TZOFFSETTO:+0100
TZNAME:BST
DTSTART:19700329T010000
RRULE:FREQ=YEARLY;BYMONTH=3;BYDAY=-1SU
END:DAYLIGHT
BEGIN:STANDARD
TZOFFSETFROM:+0100
TZOFFSETTO:+0000
TZNAME:GMT
DTSTART:19701025T020000
RRULE:FREQ=YEARLY;BYMONTH=10;BYDAY=-1SU
END:STANDARD
END:VTIMEZONE
BEGIN:VEVENT
UID:6278630:Event:254206
DTSTAMP:20260420T134645Z
SUMMARY:Bruce Castle Heritage Quarter Open Day
DESCRIPTION: All Hallows, Bruce Castle Museum, The Priory (gardens on
 ly), Tottenham Cemetery Chapels and The Antwerp are opening their door
 s. Explore this wonderful historic area on walks, talks and visits!\n1
 0.30am: SHH! The Spurs Secret History Walk, starting from Bobby Buckl
 e’s house, 7a White Hart Lane, N17 8DU. Free tickets must be booked
  via Eventbrite.\n11am: Walks and talks at Tottenham Cemetery Chapels
  with the Friends of Tottenham Cemetery.\n12 noon: Bruce Castle Muse
 um & Archive opens. Free curator-led tours every 45 minutes. Meet the 
 artist (Sam Schneider) in the Makers' Studio all afternoon. \n12 noon
 : The Antwerp Arms opens.\n12.30pm: Heritage Walk: In the Footsteps 
 of William Bedwell, Vicar of Tottenham starting outside All Hallows Ch
 urch, N17 7AA. Free tickets must be booked via Eventbrite.\n1pm: All
  Hallows Church and the gardens of The Priory open.\n2.30pm: ‘Tea a
 nd Talk’ at Bruce Castle Museum & Archive with special guest speaker
  Robert Milton Wallace (Msc Arch Cons), Chair of Ramsgate Historic Qua
 rter Scheme.\nTea and cake available at the Old Kitchen in Bruce Castl
 e, open from 12 noon.\nPlus! Listen to the bell ringers at All Hallows
  Church: time tbc\nAfter a gap year in 2025 due to our MEND Restoratio
 n works we are thrilled that the Haringey History Fair returns to Bruc
 e Castle Museum & Archive this May 2026!\nMay marks local and communit
 y history month and the history fair will provide a time to reconnect,
  discover and be inspired by more of Haringey’s fascinating radical 
 and pioneering history and community heritage.\nMore info to come soon
 .\nFor any queries, please email museum.services@haringey.gov.uk.\n\n
 For more information visit https://bowesandbounds.org/events/bruce-cas
 tle-heritage-quarter-open-day
DTSTART;TZID=Europe/London:20260503T103000
DTEND;TZID=Europe/London:20260503T160000
CATEGORIES:heritage
LOCATION:Bruce Castle Museum
WEBSITE:https://www.brucecastle.org/events
URL:https://www.brucecastle.org/events
CONTACT:02084894250
ORGANIZER;CN="Mark Wells":https://bowesandbounds.org/profile/MarkWells
ATTACH;FMTTYPE="image/jpeg":https://storage.ning.com/topology/rest/1.0
 /file/get/31135053498?profile=original
ATTENDEE;ROLE=REQ-PARTICIPANT;PARTSTAT=ACCEPTED;RSVP=TRUE;CN="Mark Wel
 ls":https://bowesandbounds.org/profile/MarkWells
END:VEVENT
END:VCALENDAR
