BEGIN:VCALENDAR
PRODID:NingEventWidget-v1
VERSION:2.0
METHOD:PUBLISH
BEGIN:VTIMEZONE
TZID:Europe/London
X-LIC-LOCATION:Europe/London
BEGIN:DAYLIGHT
TZOFFSETFROM:+0000
TZOFFSETTO:+0100
TZNAME:BST
DTSTART:19700329T010000
RRULE:FREQ=YEARLY;BYMONTH=3;BYDAY=-1SU
END:DAYLIGHT
BEGIN:STANDARD
TZOFFSETFROM:+0100
TZOFFSETTO:+0000
TZNAME:GMT
DTSTART:19701025T020000
RRULE:FREQ=YEARLY;BYMONTH=10;BYDAY=-1SU
END:STANDARD
END:VTIMEZONE
BEGIN:VEVENT
UID:6278630:Event:123476
DTSTAMP:20260423T161606Z
SUMMARY:Business Networking Bowes and Bounds
DESCRIPTION:Join us to share ideas and inspiration, get advice and bus
 iness tips and network with other North London entrepreneurs! Free en
 try but please buy a drink at the bar to support The Ranelagh. All wel
 come :) FORMAT:12.30-12.45pm - Drinks, business card swap and introdu
 ctions.Buy a drink, distribute your business cards and take a seat. P
 lease arrive on time to get a 30 second slot to introduce your busines
 s to the group. If you arrive late, you are still welcome to join the 
 meeting but you won't get to introduce your business until later. 12.
 45-1.15pm: Topic: PromotionThis is the formal 'topic' part of the meet
 ing. This week's topic is promotion. Please come ready to offer any ti
 ps or discuss any issues regarding promotion. 1.15-2pm: Meet and Ming
 leThis is the informal part of the meeting where you can mingle and ch
 at 1-1 with other business owners about anything related to your busin
 ess. After the meeting, if you have any ideas or feedback, please fee
 l free to email me at surekaf@gmail.com\n When: 12.30-2pm on Friday 9t
 h June Where: The Ranelagh, 82 Bounds Green Road, London, N11 2EU   F
 uture dates:  Friday 23rd June  Friday 7th July  Friday 21st July 
   Sureka Fernando  07984 136 961 \n\nFor more information visit http
 s://bowesandbounds.org/events/business-networking-bowes-and-bounds-2
DTSTART;TZID=Europe/London:20170609T123000
DTEND;TZID=Europe/London:20170609T140000
CATEGORIES:business, networking
LOCATION:The Ranelagh
WEBSITE:
URL:
CONTACT:07984 136 961
ORGANIZER;CN="Sureka Fernando":https://bowesandbounds.org/profile/Sure
 kaFernando
ATTACH;FMTTYPE="image/jpeg":http://storage.ning.com/topology/rest/1.0/
 file/get/2287318774?profile=original
ATTENDEE;ROLE=REQ-PARTICIPANT;PARTSTAT=ACCEPTED;RSVP=TRUE;CN="Sureka F
 ernando":https://bowesandbounds.org/profile/SurekaFernando
END:VEVENT
END:VCALENDAR
