BEGIN:VCALENDAR
PRODID:NingEventWidget-v1
VERSION:2.0
METHOD:PUBLISH
BEGIN:VTIMEZONE
TZID:Europe/London
X-LIC-LOCATION:Europe/London
BEGIN:DAYLIGHT
TZOFFSETFROM:+0000
TZOFFSETTO:+0100
TZNAME:BST
DTSTART:19700329T010000
RRULE:FREQ=YEARLY;BYMONTH=3;BYDAY=-1SU
END:DAYLIGHT
BEGIN:STANDARD
TZOFFSETFROM:+0100
TZOFFSETTO:+0000
TZNAME:GMT
DTSTART:19701025T020000
RRULE:FREQ=YEARLY;BYMONTH=10;BYDAY=-1SU
END:STANDARD
END:VTIMEZONE
BEGIN:VEVENT
UID:6278630:Event:123106
DTSTAMP:20260423T161550Z
SUMMARY:Business Networking Bowes and Bounds
DESCRIPTION:Hi everyone,   Our first Friday lunchtime business networ
 king session was a GREAT success! Only 4 of us but loads of inspiring 
 ideas :-)   The next one will take place on Friday 12th May from 12.3
 0pm-2pm at The Ranelagh pub - All welcome :-) Free entry.  Hope to see
  you there! Sureka x  07984 136 961\n\nFor more information visit htt
 ps://bowesandbounds.org/events/business-networking-bowes-and-bounds
DTSTART;TZID=Europe/London:20170512T123000
DTEND;TZID=Europe/London:20170512T140000
CATEGORIES:business, networking
LOCATION:The Ranelagh
WEBSITE:https://www.facebook.com/events/331552693914443/
URL:https://www.facebook.com/events/331552693914443/
CONTACT:07984 136 961
ORGANIZER;CN="Sureka Fernando":https://bowesandbounds.org/profile/Sure
 kaFernando
ATTACH;FMTTYPE="image/jpeg":http://storage.ning.com/topology/rest/1.0/
 file/get/2287318774?profile=original
ATTENDEE;ROLE=REQ-PARTICIPANT;PARTSTAT=ACCEPTED;RSVP=TRUE;CN="Sureka F
 ernando":https://bowesandbounds.org/profile/SurekaFernando
END:VEVENT
END:VCALENDAR
