BEGIN:VCALENDAR
PRODID:NingEventWidget-v1
VERSION:2.0
METHOD:PUBLISH
BEGIN:VTIMEZONE
TZID:Europe/London
X-LIC-LOCATION:Europe/London
BEGIN:DAYLIGHT
TZOFFSETFROM:+0000
TZOFFSETTO:+0100
TZNAME:BST
DTSTART:19700329T010000
RRULE:FREQ=YEARLY;BYMONTH=3;BYDAY=-1SU
END:DAYLIGHT
BEGIN:STANDARD
TZOFFSETFROM:+0100
TZOFFSETTO:+0000
TZNAME:GMT
DTSTART:19701025T020000
RRULE:FREQ=YEARLY;BYMONTH=10;BYDAY=-1SU
END:STANDARD
END:VTIMEZONE
BEGIN:VEVENT
UID:6278630:Event:58703
DTSTAMP:20260424T222716Z
SUMMARY:Buskers' Night
DESCRIPTION:It's our Buskers’ Night this Tuesday!\nAn open mic night
  hosted one week by Tony Bowen, otherwise known as Tony Tuesday, the f
 olk hero of Xfm and the other week by our very own amazing local music
 ian Amadis!\nWe're throwing open our doors and the floor to musicians 
 from far and wide to hone their musical skills. It’s fresh, raw and 
 some might need a little more practice but it’s sure to be a fun nig
 ht out.\nEvery other Tuesday at 8pm. It’s free entry, so get in earl
 y or book a table for dinner!\nIf you’re a musician get in contact o
 r just turn up on the night. We’d love to see and hear you at The St
 ep!\n\nFor more information visit https://bowesandbounds.org/events/bu
 skers-night-2
DTSTART;TZID=Europe/London:20130514T200000
DTEND;TZID=Europe/London:20130514T230000
CATEGORIES:live, music, gig, musicians
LOCATION:The Step
WEBSITE:http://www.thestep.co.uk/events/
URL:http://www.thestep.co.uk/events/
CONTACT:020 3302 2412
ORGANIZER;CN="Nell Riches":https://bowesandbounds.org/profile/NellRich
 es
ATTACH;FMTTYPE="image/jpeg":http://storage.ning.com/topology/rest/1.0/
 file/get/2287242106?profile=original
ATTENDEE;ROLE=REQ-PARTICIPANT;PARTSTAT=ACCEPTED;RSVP=TRUE;CN="Nell Ric
 hes":https://bowesandbounds.org/profile/NellRiches
ATTENDEE;ROLE=REQ-PARTICIPANT;PARTSTAT=TENTATIVE;RSVP=TRUE;CN="GB Kaz"
 :https://bowesandbounds.org/profile/GBKaz
END:VEVENT
END:VCALENDAR
