BEGIN:VCALENDAR
PRODID:NingEventWidget-v1
VERSION:2.0
METHOD:PUBLISH
BEGIN:VTIMEZONE
TZID:Europe/London
X-LIC-LOCATION:Europe/London
BEGIN:DAYLIGHT
TZOFFSETFROM:+0000
TZOFFSETTO:+0100
TZNAME:BST
DTSTART:19700329T010000
RRULE:FREQ=YEARLY;BYMONTH=3;BYDAY=-1SU
END:DAYLIGHT
BEGIN:STANDARD
TZOFFSETFROM:+0100
TZOFFSETTO:+0000
TZNAME:GMT
DTSTART:19701025T020000
RRULE:FREQ=YEARLY;BYMONTH=10;BYDAY=-1SU
END:STANDARD
END:VTIMEZONE
BEGIN:VEVENT
UID:6278630:Event:116971
DTSTAMP:20260425T033757Z
SUMMARY:BUSTERS SHORTS : Silent Film with live Organ Improvisation
DESCRIPTION:Saturday 15th October 2016\nDoors Open 7pm. Film Starts 7.
 30pm.\n \nTickets £8 available from : http://talkies.org.uk/event/si
 lent-shorts-night/\n \nTalkies Community Cinema to bring you silent c
 omedy from one of the all-time greats – Buster Keaton – with live 
 organ improvisation from Christ Church Southgate’s very own David Hi
 nitt and Adam Dickson, set within the breathtaking setting of our cand
 le-lit church. Cash Bar!\n \nFollowing on from the roaring success in
  2014 and 2015 of silent films at Christ Church Southgate set to live 
 organ music, this year we bring you silent comedy from one of the all 
 time greats – Buster Keaton – with live organ music from Christ Ch
 urch’s very own David Hinitt and Adam Dickson.\n \nBuster Keaton is
  one of the era’s most admired and respected silent film artists. B
 ehind the deadpan expression and trademark porkpie hat was a filmmakin
 g genius who conceived and engineered some of the most breathtaking st
 unts and feats of visual trickery, while never losing sight of slapsti
 ck cinema s primary objective: laughter.  Films to be shown :\n \nBac
 k Stage – 1919 – Dir. Roscoe Arbuckle\n“Material was the last th
 ing in the world I thought about. You only had to turn me loose on the
  set and I’d have material in two minutes, because I’d been doing 
 it all my life.” – Buster Keaton\n \nOne Week – 1920 – Dir. 
 Eddie Cline & Buster Keaton\n“I always want the audience to out-gues
 s me, and then I double-cross them.” – Buster Keaton\n \nThe Goat
  – 1921 – Dir. Buster Keaton & Mal St Clair\n“What you have to d
 o is create a character. Then the character just does his best, and th
 ere’s your comedy. No begging.” – Buster Keaton\n \nThe Boat 
  1921 – Dir. Eddie Cline & Buster Keaton\n“Think slow, act fast.
 ” – Buster Keaton\n \nChrist Church, The Green, Southgate, N14 7
 EG\nwww.christchurch-southgate.org\nTelephone 020 8886 0384\nEmail off
 ice@christchurch-southgate.org\n \nProud to be Enfield’s first Incl
 usive Church where all are welcome.\nOur organ and organists are fanta
 stic. Come back and hear them (and our acclaimed choir) every Sunday a
 t 10am and 6.30pm!\n\nFor more information visit https://bowesandbound
 s.org/events/busters-shorts-silent-film-with-live-organ-improvisation
DTSTART;TZID=Europe/London:20161015T190000
DTEND;TZID=Europe/London:20161015T220000
CATEGORIES:silent, film, with, live, organ, improvisation
LOCATION:Christ Church Southgate
WEBSITE:http://talkies.org.uk/event/silent-shorts-night/
URL:http://talkies.org.uk/event/silent-shorts-night/
CONTACT:
ORGANIZER;CN="Phillip Dawson":https://bowesandbounds.org/profile/Phill
 ipDawson
ATTACH;FMTTYPE="image/jpeg":http://storage.ning.com/topology/rest/1.0/
 file/get/2287313832?profile=original
ATTENDEE;ROLE=REQ-PARTICIPANT;PARTSTAT=ACCEPTED;RSVP=TRUE;CN="Phillip 
 Dawson":https://bowesandbounds.org/profile/PhillipDawson
END:VEVENT
END:VCALENDAR
