BEGIN:VCALENDAR
PRODID:NingEventWidget-v1
VERSION:2.0
METHOD:PUBLISH
BEGIN:VTIMEZONE
TZID:Europe/London
X-LIC-LOCATION:Europe/London
BEGIN:DAYLIGHT
TZOFFSETFROM:+0000
TZOFFSETTO:+0100
TZNAME:BST
DTSTART:19700329T010000
RRULE:FREQ=YEARLY;BYMONTH=3;BYDAY=-1SU
END:DAYLIGHT
BEGIN:STANDARD
TZOFFSETFROM:+0100
TZOFFSETTO:+0000
TZNAME:GMT
DTSTART:19701025T020000
RRULE:FREQ=YEARLY;BYMONTH=10;BYDAY=-1SU
END:STANDARD
END:VTIMEZONE
BEGIN:VEVENT
UID:6278630:Event:204659
DTSTAMP:20260422T174733Z
SUMMARY:Salsa With Sureka Online Course
DESCRIPTION:Time to get a wiggle on!!\nPlaces are filling up for Salsa
  With Sureka's new course starting on Wednesday 6 January.\nBook by 31
  December to get your Early Bird Discount. Prices go up on 1 January.\
 n\n\nPlease click the link below to see full course info and booking d
 etails:\nhttps://www.facebook.com/events/1144116092686931\n\n\n\nSee y
 ou on the dancefloor!\n\n\nSureka x\nSalsa With Sureka\n07984 136 961\
 nwww.salsawithsureka.com\n\n\nFor more information visit https://bowes
 andbounds.org/events/c
DTSTART;TZID=Europe/London:20210106T190000
DTEND;TZID=Europe/London:20210106T200000
CATEGORIES:salsa, classes
LOCATION:Online
WEBSITE:http://www.salsawithsureka.com
URL:http://www.salsawithsureka.com
CONTACT:07984136961
ORGANIZER;CN="Sureka Fernando":https://bowesandbounds.org/profile/Sure
 kaFernando
ATTACH;FMTTYPE="image/jpeg":https://storage.ning.com/topology/rest/1.0
 /file/get/8362030689?profile=original
ATTENDEE;ROLE=REQ-PARTICIPANT;PARTSTAT=ACCEPTED;RSVP=TRUE;CN="Sureka F
 ernando":https://bowesandbounds.org/profile/SurekaFernando
END:VEVENT
END:VCALENDAR
