BEGIN:VCALENDAR
PRODID:NingEventWidget-v1
VERSION:2.0
METHOD:PUBLISH
BEGIN:VTIMEZONE
TZID:Europe/London
X-LIC-LOCATION:Europe/London
BEGIN:DAYLIGHT
TZOFFSETFROM:+0000
TZOFFSETTO:+0100
TZNAME:BST
DTSTART:19700329T010000
RRULE:FREQ=YEARLY;BYMONTH=3;BYDAY=-1SU
END:DAYLIGHT
BEGIN:STANDARD
TZOFFSETFROM:+0100
TZOFFSETTO:+0000
TZNAME:GMT
DTSTART:19701025T020000
RRULE:FREQ=YEARLY;BYMONTH=10;BYDAY=-1SU
END:STANDARD
END:VTIMEZONE
BEGIN:VEVENT
UID:6278630:Event:74329
DTSTAMP:20260425T113939Z
SUMMARY:Captain Phillips - Talkies Community Cinema screening
DESCRIPTION:Dir. Paul Greengrass |2013| Cert PG | 134 mins |\nWED 26 M
 ARCH THE FOX, PALMERS GREEN\n Doors Open 7.00 and short film\n7.45 mai
 n feature\n9.00 intermission film ends 10.20\nBUY TICKETS ONLINE\nBUY 
 TICKETS DIRECT:\n\nAnnita's Cafe (Palmers Green Station)\nAnthony Webb
  (opposite The Fox)\n\n \nSmart, powerfully acted, and incredibly int
 ense, Captain Phillips offers filmgoers a Hollywood biopic done right 
 - and offers Tom Hanks a showcase for yet another brilliant performanc
 e. Captain Phillips is a multi-layered examination of the 2009 hijacki
 ng of the U.S. container ship Maersk Alabama by a crew of Somali pirat
 es. It is - through director Paul Greengrass's distinctive lens - simu
 ltaneously a pulse-pounding thriller, and a complex portrait of the my
 riad effects of globalisation.\n \n\n\n\nFor more information visit h
 ttps://bowesandbounds.org/events/captain-phillips-talkies-community-ci
 nema-screening
DTSTART;TZID=Europe/London:20140326T190000
DTEND;TZID=Europe/London:20140326T223000
CATEGORIES:cinema, talkies
LOCATION:The Fox
WEBSITE:http://www.talkies.org.uk/future-events
URL:http://www.talkies.org.uk/future-events
CONTACT:
ORGANIZER:
ATTACH;FMTTYPE="image/jpeg":http://storage.ning.com/topology/rest/1.0/
 file/get/2287262139?profile=original
ATTENDEE;ROLE=REQ-PARTICIPANT;PARTSTAT=ACCEPTED;RSVP=TRUE;CN=Administr
 ator:https://bowesandbounds.org/profile/Administrator
END:VEVENT
END:VCALENDAR
